Workbook

Sheet תנאי-סף
A1: מס' סעיף | B1: תיאור התנאי
B2: שם המציע:
B3: ח.פ.
B4: איש קשר לצורך המכרז:
B5: טלפון:
B6: כתובת דוא"ל:
A7: 4 | B7: תנאי סף
A8: 4.2 | B8: תנאי סף מנהליים (למציע)
A9: 4.2.1 | B9: ככל שחלה על המציע חובת רישום, על פי דין, בישראל, עליו להיות רשום כדין.
A10: 4.2.2 | B10: המציע עומד בדרישות חוק עסקאות גופים ציבוריים, התשל"ו- 1976 ("חוק עסקאות גופים ציבוריים").
A11: 4.3 | B11: תנאי סף מקצועיים
A12: 4.3.1 | B12: בעל ניסיון מוכח, במשך שנתיים לפחות במצטבר בין השנים 2021–2025, בשניים או יותר מהתחומים המפורטים להלן:
A13: 4.3.1.1 | B13: בניהול פרויקטים לקידום חדשנות טכנולוגית באחד או יותר התחומים הבאים: תעשיית החלל או טכנולוגיות ביטחוניות/דו-שימושיות או טכנולוגיות עמוקות.
B14: בניהול פרויקטים הכוללים שיתוף פעולה בין לפחות שני סוגי שחקנים כגון: יזמים, משקיעים, חוקרים, חברות, מוסדות אקדמיים, וגופים מהמגזר הציבורי, הפרטי או השלישי.
B15: בפעילות ליצירת שותפויות אסטרטגיות בינלאומיות לחברות וארגונים או סיוע בחדירה לשווקים גלובליים או פיתוח עסקי טכנולוגי
B16: בהפעלה של לפחות קהילת חדשנות אחת, או ניהול קהילה עסקית, או מרכז חדשנות או חממת יזמות טכנולוגית. היקפן הכספי של כלל הפעילויות המהוות ניסיון כאמור בסעיף 4.3.1.1 לעיל, הינו בשווי 2,000,000 ש"ח לכל הפחות (כולל מע"מ) במצטבר לכל שנת פעילות.
A17: 4.3.1.2 | B17: המציע הינו בעל מחזור הכנסות כספי שנתי של 2,500,000 ש"ח לפחות, בשתיים מחמשת השנים האחרונות.
A18: 4.3.1.3 | B18: המציע הינו בעל ניסיון מוכח של שנתיים לפחות, במהלך 5 השנים שקדמו למועד האחרון להגשת ההצעות (2021-2025), בגיוס של משאבים ממקורות מימון חיצוניים (לרבות חסויות מסחריות, תרומות, דמי השתתפות או "שווה-כסף") בהיקף כספי של 500,000 ש"ח לכל הפחות, במצטבר לכל שנת פעילות המוצגת.
A19: 4.3.2 | B19: המציע נותן שירותים העומד בדרישות המפורטות להלן:
A20: 4.3.2.1 | B20: מנהל קהילה בהתאם לתנאים הבאים:
A21: 4.3.2.1.1 | B21: בעל/ת ניסיון מוכח של ארבע שנים לפחות במצטבר , בין השנים 2018-2025, בלפחות 2 מהתחומים הבאים:
B22: יזמות, פיתוח או מסחור טכנולוגיות - בתחומי החלל, טכנולוגיות עמוקות או טכנולוגיות ביטחוניות ודו-שימושיות, לרבות קידום יישומים אזרחיים של טכנולוגיות ביטחוניות.
B23: פיתוח עסקי בינלאומי - לרבות יצירת שותפויות עסקיות בינלאומיות, גיוס השקעות, פיתוח שיתופי פעולה או קידום חדירה לשווקים גלובליים עבור חברות או ארגונים.
B24: קידום חדשנות- כמופיע בפרק ההגדרות: פיתוח והטמעה של רעיונות ופתרונות חדשניים המקדמים את הפעילות בגופים שונים מבחינה טכנולוגית או תהליכית.
B25: הקמה או הפעלה של קהילת חדשנות או קהילה עסקית - לרבות הקמה, הפעלה או ניהול של קהילה המקדמת שיתופי פעולה, למידה ויצירת הזדמנויות עסקיות.
B26: ייעוץ עסקי או אסטרטגי -לחברות טכנולוגיה, גופי תעשייה או מוסדות מחקר ופיתוח, בתחומי חדשנות, צמיחה, פיתוח עסקי, מסחור טכנולוגיות או גיבוש אסטרטגיה ארגונית.

Sheet מדד איכות
A1: ניקוד איכות | E1: מס"ד: | F1: ='[1]תנאי-סף'!D1 -> 0 | H1: ='[1]תנאי-סף'!E1 -> 0 | J1: ='[1]תנאי-סף'!F1 -> 0 | L1: ='[1]תנאי-סף'!G1 -> 0 | N1: ='[1]תנאי-סף'!H1 -> 0 | P1: ='[1]תנאי-סף'!I1 -> 0 | R1: ='[1]תנאי-סף'!J1 -> 0
E2: שם המציע: | F2: =INDEX('[1]תנאי-סף'!$D$1:$J$2,2,MATCH(F1,'[1]תנאי-סף'!$D$1:$J$1,0)) -> #N/A | H2: =INDEX('[1]תנאי-סף'!$D$1:$J$2,2,MATCH(H1,'[1]תנאי-סף'!$D$1:$J$1,0)) -> #N/A | J2: =INDEX('[1]תנאי-סף'!$D$1:$J$2,2,MATCH(J1,'[1]תנאי-סף'!$D$1:$J$1,0)) -> #N/A | L2: =INDEX('[1]תנאי-סף'!$D$1:$J$2,2,MATCH(L1,'[1]תנאי-סף'!$D$1:$J$1,0)) -> #N/A | N2: =INDEX('[1]תנאי-סף'!$D$1:$J$2,2,MATCH(N1,'[1]תנאי-סף'!$D$1:$J$1,0)) -> #N/A | P2: =INDEX('[1]תנאי-סף'!$D$1:$J$2,2,MATCH(P1,'[1]תנאי-סף'!$D$1:$J$1,0)) -> #N/A | R2: =INDEX('[1]תנאי-סף'!$D$1:$J$2,2,MATCH(R1,'[1]תנאי-סף'!$D$1:$J$1,0)) -> #N/A
A3: מס' סעיף: | C3: אמת המידה: | E3: ניקוד מירבי | F3: נימוק/ציון גלם | G3: ציון כולל לפרמטר | H3: נימוק/ציון גלם | I3: ציון כולל לפרמטר | J3: נימוק/ציון גלם | K3: ציון כולל לפרמטר | L3: נימוק / ציון גלם | M3: ציון כולל לפרמטר | N3: נימוק/ציון גלם | O3: ציון כולל לפרמטר | P3: נימוק/ציון גלם | Q3: ציון כולל לפרמטר | R3: נימוק/ציון גלם | S3: ציון כולל לפרמטר
A4: 5.2.1.1 | B4: 1 | C4: הגורם הנבדק: המציע | E4: 30
C5: ניהול שותפויות ואקוסיסטם מרובה שחקנים (ייבחנו עד 3 פרויקטים שניהל המציע. יינתן ציון של עד 5 נקודות לכל פרויקט) | E5: 15
C6: (1) טיב הפרויקט ומידת השפעתו על האקוסיסטם הישראלי. | F6: מספר הפרוייקטים שנבדקו: | H6: מספר הפרוייקטים שנבדקו: | J6: מספר הפרוייקטים שנבדקו: | L6: מספר הפרוייקטים שנבדקו: | N6: מספר הפרוייקטים שנבדקו: | P6: מספר הפרוייקטים שנבדקו: | R6: מספר הפרוייקטים שנבדקו:
F7: הערות: | H7: הערות: | J7: הערות: | L7: הערות: | N7: הערות: | P7: הערות: | R7: הערות:
C8: (2)מידת הרלוונטיות של הפרויקט לתעשיית החלל (ליבת המכרז), או לעולמות תוכן טכנולוגיים משיקים (טכנולוגיות עמוקות, או טכנולוגיות ביטחוניות ודו-שימושיות). | F8: מספר הפרוייקטים שנבדקו: | H8: מספר הפרוייקטים שנבדקו: | J8: מספר הפרוייקטים שנבדקו: | L8: מספר הפרוייקטים שנבדקו: | N8: מספר הפרוייקטים שנבדקו: | P8: מספר הפרוייקטים שנבדקו: | R8: מספר הפרוייקטים שנבדקו:
F9: הערות: | H9: הערות: | J9: הערות: | L9: הערות: | N9: הערות: | P9: הערות: | R9: הערות:
C10: (3)מידת המורכבות של הפרויקט. | F10: מספר הפרוייקטים שנבדקו: | H10: מספר הפרוייקטים שנבדקו: | J10: מספר הפרוייקטים שנבדקו: | L10: מספר הפרוייקטים שנבדקו: | N10: מספר הפרוייקטים שנבדקו: | P10: מספר הפרוייקטים שנבדקו: | R10: מספר הפרוייקטים שנבדקו:
F11: הערות: | H11: הערות: | J11: הערות: | L11: הערות: | N11: הערות: | P11: הערות: | R11: הערות:
C12: (4) יכולת המציע ביצירת שותפויות ישראליות ובינלאומיות. | F12: מספר הפרוייקטים שנבדקו: | H12: מספר הפרוייקטים שנבדקו: | J12: מספר הפרוייקטים שנבדקו: | L12: מספר הפרוייקטים שנבדקו: | N12: מספר הפרוייקטים שנבדקו: | P12: מספר הפרוייקטים שנבדקו: | R12: מספר הפרוייקטים שנבדקו:
F13: הערות: | H13: הערות: | J13: הערות: | L13: הערות: | N13: הערות: | P13: הערות: | R13: הערות:
C14: (5) גיוון השחקנים המעורבים בפרויקט (תעשייה, משקיעים, אקדמיה וממשל). | F14: מספר הפרוייקטים שנבדקו: | H14: מספר הפרוייקטים שנבדקו: | J14: מספר הפרוייקטים שנבדקו: | L14: מספר הפרוייקטים שנבדקו: | N14: מספר הפרוייקטים שנבדקו: | P14: מספר הפרוייקטים שנבדקו: | R14: מספר הפרוייקטים שנבדקו:
F15: הערות: | H15: הערות: | J15: הערות: | L15: הערות: | N15: הערות: | P15: הערות: | R15: הערות:
C16: סה"כ ניקוד | F16: =SUM(G6:G15) -> 0 | H16: =SUM(I6:I15) -> 0 | J16: =SUM(K6:K15) -> 0 | L16: =SUM(M6:M15) -> 0 | N16: =SUM(O6:O15) -> 0 | P16: =SUM(Q6:Q15) -> 0 | R16: =SUM(S6:S15) -> 0
B17: 2 | C17: מקורות מימון משלימים וגיוס חסויות (תיבחן יכולתו של המציע (במסגרת הפרויקטים שהוצגו לצורך הוכחת עמידתו בתנאי הסף) לגייס משאבים ממקורות מימון חיצוניים, לרבות חסויות מסחריות, תרומות, דמי השתתפות ו"שווה־כסף". | E17: 15 | M17: ציון כולל לפרמטר: | N17: נימוק / ציון גלם | O17: ציון כולל לפרמטר: | P17: נימוק / ציון גלם | Q17: ציון כולל לפרמטר: | R17: נימוק / ציון גלם | S17: ציון כולל לפרמטר:
C18: א. היקף המשאבים שגויסו בפועל | E18: 8
C19: ב. מספר הגורמים החיצוניים שמהם גויסו משאבים (עד 4 נקודות). | E19: 4
C20: ג. מגוון הגורמים והמגזרים שמהם גויסו המשאבים (עד 3 נקודות). | E20: 3
B21: סה"כ ניקוד | F21: =SUM(G18:G20) -> 0 | H21: =SUM(I18:I20) -> 0 | J21: =SUM(K18:K20) -> 0 | L21: =SUM(M18:M20) -> 0 | N21: =SUM(O18:O20) -> 0 | P21: =SUM(Q18:Q20) -> 0 | R21: =SUM(S18:S20) -> 0
A22: 5.2.1.2 | C22: הגורם הנבדק: מנהל הקהילה המוצע
C23: שנות ניסיון ומומחיות מנהל הקהילה(יינתן ניקוד בגין כל שנת ניסיון של מנהל הקהילה (מעבר ל-4 שנות החובה הנדרשות בתנאי הסף)) | E23: 25
C24: 5 נקודות לכל שנת ניסיון בתעשיית החלל | F24: מספר שנות ניסיון: | H24: מספר שנות ניסיון: | J24: מספר שנות ניסיון: | L24: מספר שנות ניסיון: | N24: מספר שנות ניסיון: | P24: מספר שנות ניסיון: | R24: מספר שנות ניסיון:
C25: 3 נקודות לכל שנת ניסיון בטכנולוגיות עמוקות, בטכנולוגיות ביטחוניות ודו-שימושיות או בפיתוח עסקי בינלאומי. | F25: מספר שנות ניסיון: | H25: מספר שנות ניסיון: | J25: מספר שנות ניסיון: | L25: מספר שנות ניסיון: | N25: מספר שנות ניסיון: | P25: מספר שנות ניסיון: | R25: מספר שנות ניסיון:
C26: 1 נקודה לכל שנת ניסיון בניהול קהילות טכנולוגיות/הייטק כלליות. | F26: מספר שנות ניסיון: | H26: מספר שנות ניסיון: | J26: מספר שנות ניסיון: | L26: מספר שנות ניסיון: | N26: מספר שנות ניסיון: | P26: מספר שנות ניסיון: | R26: מספר שנות ניסיון:
C27: סה"כ ניקוד | F27: =SUM(G24:G26) -> 0 | H27: =SUM(I24:I26) -> 0 | J27: =SUM(K24:K26) -> 0 | L27: =SUM(M24:M26) -> 0 | N27: =SUM(O24:O26) -> 0 | P27: =SUM(Q24:Q26) -> 0 | R27: =SUM(S24:S26) -> 0
A28: 5.2.1.3 | C28: הגורם הנבדק: תוכנית העבודה
C29: איכות תוכנית העבודה: חזון, אסטרטגיה ומדדי ביצוע | E29: 25
C30: חזון ויעדים: עומק החזון האסטרטגי לקידום תעשיית החלל והתאמת היעדים שהוצגו בתוכנית למטרות של סוכנות החלל הישראלית. | E30: 5
C31: בניית תמהיל אירועים: במסגרת מדד זה תיבחן יכולתו של המציע לבנות תוכנית אירועים שנתית אפקטיבית, בהתבסס על סוגי האירועים המפורטים במסמכי המכרז ובהתאם למטרות הקהילה. הניקוד יינתן תוך התייחסות לשני היבטים: א. אירוע הדגל: איכות ומקוריות התכנון של אירוע השיא השנתי (שבוע החלל). ב. תמהיל הפעילות השוטפת והרציונל המקצועי בבחירת האירועים. ייבחן תכנון הספק למתן מענה לחסמי התעשייה, קידום קשרים עסקיים ופיתוח עסקי בינלאומי. | E31: 9 | F31: א. ב. | H31: א. ב. | J31: א. ב. | L31: א. ב. | N31: א. ב. | P31: א. ב. | R31: א. ב.
C32: מודל גיוס חסויות חיצוניות ומקורות מימון משלימים (במסגרת מדד זה תיבחן איכות המודל שהציג המציע לגיוס חסויות חיצוניות ומשאבים משלימים. הניקוד יינתן בהתאם לישימות המודל, מגוון מקורות המימון הפוטנציאליים, אסטרטגיית גיוס וניהול השותפויות, מידת החדשנות של המודל, והאופן שבו מתכנן המציע לעשות שימוש במשאבים שיגויסו לצורך הרחבת היקף פעילות הקהילה, העשרת תוכן האירועים ופיתוח יוזמות חדשות) | E32: 6
C33: ניהול דאטה ואימפקט (התייחסות לשיטות איסוף הנתונים, ניהול מערכת המידע (CRM) והשימוש בכלים למדידת אימפקט של הקהילה. בנוסף, תוערך מתודולוגיית המציע לניהול מערך דיווח ובקרה שוטף מול המשרד, וכן התכנון להפקת תוצרי ידע מקצועיים (כגון סקירות עומק, ניירות עמדה ודוחות זיהוי חסמים), בדגש על הפקת דו"ח תמונת מצב סקטור החלל.) | E33: 5
C34: סה"כ ניקוד | F34: =SUM(G30:G33) -> 0 | H34: =SUM(I30:I33) -> 0 | J34: =SUM(K30:K33) -> 0 | L34: =SUM(M30:M33) -> 0 | N34: =SUM(O30:O33) -> 0 | P34: =SUM(Q30:Q33) -> 0 | R34: =SUM(S30:S33) -> 0
A35: 5.2.1.4 | C35: הגורם הנבדק: ריאיון (רק הצעות אשר יזכו בסעיפים 5.2.1.1-5.2.1.3 (בסה"כ) בציון של 50 לפחות, יועברו לשלב זה בבחינת האיכות – שלב הריאיון. הצעות שלא יעמדו בסף זה – הליך בדיקתן יסתיים. עם זאת, יובהר כי המזמין רשאי לפי שיקול דעתו הבלעדי להעביר הצעות לשלב הראיון שסך הציון שקיבלו הנ"ל הינו פחות מ-50 אך לא פחות מ-45)
C36: ראה גיליון נפרד ריאיון | E36: 20
C37: סה"כ ניקוד | F37: =SUM(G36) -> 0 | H37: =SUM(I36) -> 0 | J37: =SUM(K36) -> 0 | L37: =SUM(M36) -> 0 | N37: =SUM(O36) -> 0 | P37: =SUM(Q36) -> 0 | R37: =SUM(S36) -> 0
A38: סה"כ ניקוד סופי | F38: =SUM(F37,F37,F34,F27,F21,F16) -> 0 | H38: =SUM(H37,H37,H34,H27,H21,H16) -> 0 | J38: =SUM(J37,J37,J34,J27,J21,J16) -> 0 | L38: =SUM(L37,L37,L34,L27,L21,L16) -> 0 | N38: =SUM(N37,N37,N34,N27,N21,N16) -> 0 | P38: =SUM(P37,P37,P34,P27,P21,P16) -> 0 | R38: =SUM(R37,R37,R34,R27,R21,R16) -> 0

Sheet מדד איכות- ראיון אישי
A1: פירוט הקריטריון | B1: ניקוד מירבי
A2: התרשמות מהחזון האסטרטגי, בחינת התפיסה המקצועית לפיתוח, צמיחה ניהול ושימור של קהילה עסקית , בדגש על תעשיית החלל. | B2: 0.25
A3: התרשמות מהבנתו העסקית של מנהל הקהילה, יכולתו לייצר חיבורים עסקיים בשווקים בינלאומיים, והניסיון המעשי שלו בגיוס חסויות ורתימת משקיעים וגורמי תעשייה. | B3: 0.25
A4: התרשמות מיכולת מנהל הקהילה ליצור שותפויות בין-מגזריות (אקדמיה, תעשיות ביטחוניות ואזרחיות, ממשל ותעשייה), וכן מהמתודולוגיה לאיתור, ניתוח והנגשה של ידע מגמתי לחברי הקהילה. | B4: 0.2
A5: הבנת נציגי המציע את הצרכים והחזון של סוכנות החלל הישראלית והמשרד. התרשמות הוועדה מהחוסן והגיבוי המקצועי והתפעולי שיעניק הגוף המציע למנהל הקהילה (כגון מעטפת ניהולית, שיווקית ופיננסית). | B5: 0.15
A6: התרשמות מיכולת המציע לרתום את רשת הקשרים שלו בארץ ובחו"ל לטובת קהילת החלל, ובחינת היכולת המעשית של הגוף המציע לייצר שותפויות בין-מגזריות ולתמוך בגיוס משאבים וחסויות. | B6: 0.15

Sheet מדד מחיר
A1: טופס הצעת המחיר – מדד מחיר למכרז 08/2026 – ניהול קהילת חלל
A2: האמדן המשוער להתקשרות (תקציב שנתי): עד 2,000,000 ₪ | רכיב המחיר = 40% מהציון הכולל | רכיב האיכות = 60% מהציון הכולל | Gi = 60%TQi + 40%PSi
A3: נוסחת ציון המחיר: PSi = (Pmin / Pi) × 100, כאשר Pi = עלות "סל הייחוס המשוקלל" של מציע i (סכום מכפלות מחיר מוצע בכל שורה × משקל השורה)
A5: מחירון האירועים והתשתית (סל הייחוס המשוקלל – 100% מציון המחיר)
A6: מס' | B6: יחידת תמחור | C6: משקל | D6: מחיר מקסימום (₪) | E6: מציע 1 (מחיר מוצע כולל מע"מ) | F6: מציע 2 (מחיר מוצע כולל מע"מ) | G6: מציע 3 (מחיר מוצע כולל מע"מ) | H6: מציע 4 (מחיר מוצע כולל מע"מ) | I6: מציע 5 (מחיר מוצע כולל מע"מ) | J6: מציע 6 (מחיר מוצע כולל מע"מ) | K6: מציע 7 (מחיר מוצע כולל מע"מ)
A7: 1 | B7: הוצאות ניהול שוטפות – תשתית | C7: 0.5 | D7: 1000000 | E7: 0 | F7: 0 | G7: 0 | H7: 0 | I7: 0 | J7: 0 | K7: 0
A8: 2 | B8: אירוע דגל: ניהול, הפקה ותכלול מלא של שבוע החלל הכולל 2 כנסים מרכזיים: "כנס אילן רמון" וכנס שיא נוסף (500-1,000 משתתפים) | C8: 0.2 | D8: 800000 | E8: 0 | F8: 0 | G8: 0 | H8: 0 | I8: 0 | J8: 0 | K8: 0
A9: 3 | B9: מפגש קטן (עד 90 משתתפים), יום מלא (מעל 4 שעות) | C9: 0.005 | D9: 32568 | E9: 0 | F9: 0 | G9: 0 | H9: 0 | I9: 0 | J9: 0 | K9: 0
A10: 4 | B10: מפגש קטן (עד 90 משתתפים), חצי יום (עד 4 שעות) | C10: 0.035 | D10: 20000 | E10: 0 | F10: 0 | G10: 0 | H10: 0 | I10: 0 | J10: 0 | K10: 0
A11: 5 | B11: מפגש בינוני (עד 150 משתתפים), יום מלא (מעל 4 שעות) | C11: 0.02 | D11: 61065 | E11: 0 | F11: 0 | G11: 0 | H11: 0 | I11: 0 | J11: 0 | K11: 0
A12: 6 | B12: מפגש בינוני (עד 150 משתתפים), חצי יום (עד 4 שעות) | C12: 0.08 | D12: 40000 | E12: 0 | F12: 0 | G12: 0 | H12: 0 | I12: 0 | J12: 0 | K12: 0
A13: 7 | B13: מפגש גדול (עד 300 משתתפים), יום מלא (מעל 4 שעות) | C13: 0.01 | D13: 159300 | E13: 0 | F13: 0 | G13: 0 | H13: 0 | I13: 0 | J13: 0 | K13: 0
A14: 8 | B14: מפגש גדול (עד 300 משתתפים), חצי יום (עד 4 שעות) | C14: 0.02 | D14: 100000 | E14: 0 | F14: 0 | G14: 0 | H14: 0 | I14: 0 | J14: 0 | K14: 0
A15: 9 | B15: אירוח משלחת זרה / ימי פגישות עסקיות ממוקדים (עד 50 משתתפים, 2.5 ימי פעילות מלאים) | C15: 0.02 | D15: 40000 | E15: 0 | F15: 0 | G15: 0 | H15: 0 | I15: 0 | J15: 0 | K15: 0
A16: 10 | B16: סדנא מקצועית (עד 30 משתתפים, 5 ימי עבודה מלאים) | C16: 0.02 | D16: 75000 | E16: 0 | F16: 0 | G16: 0 | H16: 0 | I16: 0 | J16: 0 | K16: 0
A17: 11 | B17: הכשרה מקצועית מרוכזת – שבועיים (עד 20 משתתפים, 10 ימי פעילות מלאים) | C17: 0.02 | D17: 120000 | E17: 0 | F17: 0 | G17: 0 | H17: 0 | I17: 0 | J17: 0 | K17: 0
A18: 12 | B18: הקמת והפעלת ביתן בתערוכה בחו"ל (כולל תכלול לוגיסטי ותיאום פגישות עסקיות) | C18: 0.03 | D18: 250000 | E18: 0 | F18: 0 | G18: 0 | H18: 0 | I18: 0 | J18: 0 | K18: 0
... A21: 15 | B21: וובינר | C21: 0.01 | D21: 6000 | E21: 0 | F21: 0 | G21: 0 | H21: 0 | I21: 0 | J21: 0 | K21: 0
B22: סה"כ משקלים (בקרה - צריך להסתכם ל-100%) | C22: =SUM(C7:C21) -> 1
B23: תקינות ההצעה (כל השורות מולאו ואינן חורגות מהמחיר המקסימום; אחרת פסילה על הסף) | E23: =IF(SUMPRODUCT(--(E7:E21>$D$7:$D$21))+SUMPRODUCT(--(E7:E21=0))=0,"תקין","פסולה") -> פסולה | F23: =IF(SUMPRODUCT(--(F7:F21>$D$7:$D$21))+SUMPRODUCT(--(F7:F21=0))=0,"תקין","פסולה") -> פסולה | G23: =IF(SUMPRODUCT(--(G7:G21>$D$7:$D$21))+SUMPRODUCT(--(G7:G21=0))=0,"תקין","פסולה") -> פסולה | H23: =IF(SUMPRODUCT(--(H7:H21>$D$7:$D$21))+SUMPRODUCT(--(H7:H21=0))=0,"תקין","פסולה") -> פסולה | I23: =IF(SUMPRODUCT(--(I7:I21>$D$7:$D$21))+SUMPRODUCT(--(I7:I21=0))=0,"תקין","פסולה") -> פסולה | J23: =IF(SUMPRODUCT(--(J7:J21>$D$7:$D$21))+SUMPRODUCT(--(J7:J21=0))=0,"תקין","פסולה") -> פסולה | K23: =IF(SUMPRODUCT(--(K7:K21>$D$7:$D$21))+SUMPRODUCT(--(K7:K21=0))=0,"תקין","פסולה") -> פסולה
B24: עלות סל הייחוס המשוקלל – Pi (סכימת מחיר מוצע × משקל, לכל 15 השורות) | E24: =SUMPRODUCT(E7:E21,$C$7:$C$21) -> 0 | F24: =SUMPRODUCT(F7:F21,$C$7:$C$21) -> 0 | G24: =SUMPRODUCT(G7:G21,$C$7:$C$21) -> 0 | H24: =SUMPRODUCT(H7:H21,$C$7:$C$21) -> 0 | I24: =SUMPRODUCT(I7:I21,$C$7:$C$21) -> 0 | J24: =SUMPRODUCT(J7:J21,$C$7:$C$21) -> 0 | K24: =SUMPRODUCT(K7:K21,$C$7:$C$21) -> 0
B25: עלות להשוואה - Pmin (רק הצעות תקינות; משמש לחישוב הציון בלבד) | E25: =IF(E23="תקין",E24,"") | F25: =IF(F23="תקין",F24,"") | G25: =IF(G23="תקין",G24,"") | H25: =IF(H23="תקין",H24,"") | I25: =IF(I23="תקין",I24,"") | J25: =IF(J23="תקין",J24,"") | K25: =IF(K23="תקין",K24,"")
A27: ציון מחיר PSi (0-100) = (Pmin / Pi) × 100 | E27: =IF(E23="פסולה","פסולה",MIN($E$25:$K$25)/E24*100) -> פסולה | F27: =IF(F23="פסולה","פסולה",MIN($E$25:$K$25)/F24*100) -> פסולה | G27: =IF(G23="פסולה","פסולה",MIN($E$25:$K$25)/G24*100) -> פסולה | H27: =IF(H23="פסולה","פסולה",MIN($E$25:$K$25)/H24*100) -> פסולה | I27: =IF(I23="פסולה","פסולה",MIN($E$25:$K$25)/I24*100) -> פסולה | J27: =IF(J23="פסולה","פסולה",MIN($E$25:$K$25)/J24*100) -> פסולה | K27: =IF(K23="פסולה","פסולה",MIN($E$25:$K$25)/K24*100) -> פסולה
A28: ציון מחיר משוקלל בציון הכולל (40% × PSi) | E28: =IF(E27="פסולה","פסולה",E27*0.4) -> פסולה | F28: =IF(F27="פסולה","פסולה",F27*0.4) -> פסולה | G28: =IF(G27="פסולה","פסולה",G27*0.4) -> פסולה | H28: =IF(H27="פסולה","פסולה",H27*0.4) -> פסולה | I28: =IF(I27="פסולה","פסולה",I27*0.4) -> פסולה | J28: =IF(J27="פסולה","פסולה",J27*0.4) -> פסולה | K28: =IF(K27="פסולה","פסולה",K27*0.4) -> פסולה
A30: הערות: תאי צהובים = שדות קלט למחירי ההצעות בפועל של כל מציע (כולל מע"מ). שאר התאים מחושבים אוטומטית. אי-מילוי שורה או חריגה ממחיר המקסימום בכל שורה שהיא (לרבות שורת התשתית) גוררת פסילת ההצעה כולה. יש להתאים את מספר עמודות המציעים (כרגע 7) בהתאם למספר ההצעות שיתקבלו בפועל.

Sheet סיכום
A1: שקלול ציונים סופיים | C1: ='[2]תנאי-סף'!D1 -> 0 | D1: ='[2]תנאי-סף'!E1 -> 0 | E1: ='[2]תנאי-סף'!F1 -> 0 | F1: ='[2]תנאי-סף'!G1 -> 0 | G1: ='[2]תנאי-סף'!H1 -> 0 | H1: ='[2]תנאי-סף'!I1 -> 0 | I1: ='[2]תנאי-סף'!J1 -> 0
A2: משקל | B2: רכיב | C2: ='[2]תנאי-סף'!D2 -> 0 | D2: ='[2]תנאי-סף'!E2 -> 0 | E2: ='[2]תנאי-סף'!F2 -> 0 | F2: ='[2]תנאי-סף'!G2 -> 0 | G2: ='[2]תנאי-סף'!H2 -> 0 | H2: ='[2]תנאי-סף'!I2 -> 0 | I2: ='[2]תנאי-סף'!J2 -> 0
A3: 0.6 | B3: ציון איכות | C3: =INDEX([2]איכות!$D$1:$Q$22,20,MATCH(C1,[2]איכות!$D$1:$Q$1,0)) -> נימוק / ציון גלם | D3: =INDEX([2]איכות!$D$1:$Q$22,20,MATCH(D1,[2]איכות!$D$1:$Q$1,0)) -> נימוק / ציון גלם | E3: =INDEX([2]איכות!$D$1:$Q$22,20,MATCH(E1,[2]איכות!$D$1:$Q$1,0)) -> נימוק / ציון גלם | F3: =INDEX([2]איכות!$D$1:$Q$22,20,MATCH(F1,[2]איכות!$D$1:$Q$1,0)) -> נימוק / ציון גלם | G3: =INDEX([2]איכות!$D$1:$Q$22,20,MATCH(G1,[2]איכות!$D$1:$Q$1,0)) -> נימוק / ציון גלם | H3: =INDEX([2]איכות!$D$1:$Q$22,20,MATCH(H1,[2]איכות!$D$1:$Q$1,0)) -> נימוק / ציון גלם | I3: =INDEX([2]איכות!$D$1:$Q$22,20,MATCH(I1,[2]איכות!$D$1:$Q$1,0)) -> נימוק / ציון גלם
A4: 0.4 | B4: ציון מחיר | C4: =IFERROR([2]מחיר!B4,0) -> 100 | D4: =IFERROR([2]מחיר!C4,0) -> 100 | E4: =IFERROR([2]מחיר!D4,0) -> 100 | F4: =IFERROR([2]מחיר!E4,0) -> 100 | G4: =IFERROR([2]מחיר!F4,0) -> 100 | H4: =IFERROR([2]מחיר!G4,0) -> 100 | I4: =IFERROR([2]מחיר!H4,0) -> 100
A5: =SUM(A3:A4) -> 1 | B5: סה"כ ציון | C5: =(C3*$A3)+(C4*$A4) -> #VALUE! | D5: =(D3*$A3)+(D4*$A4) -> #VALUE! | E5: =(E3*$A3)+(E4*$A4) -> #VALUE! | F5: =(F3*$A3)+(F4*$A4) -> #VALUE! | G5: =(G3*$A3)+(G4*$A4) -> #VALUE! | H5: =(H3*$A3)+(H4*$A4) -> #VALUE! | I5: =(I3*$A3)+(I4*$A4) -> #VALUE!
A6: דירוג מציעים | C6: =_xlfn.RANK.EQ(C5,$C$5:$E$5,0) -> #VALUE! | D6: =_xlfn.RANK.EQ(D5,$C$5:$E$5,0) -> #VALUE! | E6: =_xlfn.RANK.EQ(E5,$C$5:$E$5,0) -> #VALUE! | F6: =_xlfn.RANK.EQ(F5,$C$5:$E$5,0) -> #VALUE! | G6: =_xlfn.RANK.EQ(G5,$C$5:$E$5,0) -> #VALUE! | H6: =_xlfn.RANK.EQ(H5,$C$5:$E$5,0) -> #VALUE! | I6: =_xlfn.RANK.EQ(I5,$C$5:$E$5,0) -> #VALUE!
A7: עסק בשליטת אישה? | C7: ='[2]תנאי-סף'!#REF! -> #REF! | D7: ='[2]תנאי-סף'!#REF! -> #REF! | E7: ='[2]תנאי-סף'!#REF! -> #REF! | F7: ='[2]תנאי-סף'!#REF! -> #REF! | G7: ='[2]תנאי-סף'!#REF! -> #REF! | H7: ='[2]תנאי-סף'!#REF! -> #REF! | I7: ='[2]תנאי-סף'!#REF! -> #REF!
