Workbook

Sheet הנחות ונתוני עזר
A1: טבלאות עלות שעת עבודה - אבטחה | ותק 0-25
A3: הנחות חישוב | E3: שכרי יסוד לפי התמונה
A4: ימי עבודה בשבוע | B4: 5 | E4: סוג עובד | F4: שנה ראשונה / ותק 0 | G4: שנה שנייה / ותק 1 | H4: שנה שלישית / ותק 2
A5: אירועים מזכים | B5: לא כולל | E5: רמ"ש | F5: 63 | G5: 63 | H5: 63
A6: שכר יסוד בוותק 0 | B6: שנה ראשונה | E6: מאבטח מתקדם ב' | F6: 51 | G6: 53 | H6: 54
A7: שכר יסוד בוותק 1 | B7: שנה שנייה | E7: מאבטח מתקדם ב' - קריה חקלאית (מאבטח שרים ג') | F7: 59 | G7: 61 | H7: 62
A8: שכר יסוד בוותק 2 | B8: שנה שלישית | E8: מאבטח מתקדם ב' - בית השר (מאבטח שרים ב') | F8: 61.5 | G8: 63.5 | H8: 64.5
A9: שכר יסוד בוותק 3-25 | B9: שכר השנה השלישית (הנחה) | E9: מאבטח בסיסי / בודק ביטחוני | F9: 48.5 | G9: 50.5 | H9: 51.5
A10: תוספת ותק בענף שמירה | B10: 0 | E10: אחר (כגון: מוקדן) | F10: 47.5 | G10: 49.5 | H10: 50.5
A11: דיוק תצוגה | B11: 3 ספרות אחרי הנקודה
A14: פרמטר | B14: ערך | C14: מקור/הערה
A15: שעות עבודה שנתיות בפועל - ללא אירועים, 5 ימים | B15: 2083.2 | C15: גיליון נתוני עזר בקובץ הסימולטור
A16: שעות עבודה ביום | B16: 8.4 | C16: גיליון נתוני עזר
A17: שעות בחודש | B17: 182 | C17: גיליון נתוני עזר
A18: תעריף יום הבראה בשירות המדינה | B18: 511.6 | C18: גיליון נתוני עזר
A19: שכר מינימלי לקרן השתלמות | B19: 39.11456 | C19: גיליון נתוני עזר
A20: תקרת מדרגה מופחתת לביטוח לאומי | B20: 7703 | C20: גיליון נתוני עזר
A21: שיעור ביטוח לאומי מופחת | B21: 0.0451 | C21: גיליון נתוני עזר
A22: שיעור ביטוח לאומי גבוה | B22: 0.076 | C22: גיליון נתוני עזר
A23: פנסיה - תגמולים | B23: 0.075 | C23: גיליון נתוני עזר
A24: פנסיה - פיצויים | B24: 0.0833 | C24: גיליון נתוני עזר
A25: קרן השתלמות | B25: 0.075 | C25: גיליון נתוני עזר
A26: מקדם בסיס קרן השתלמות לפי הסימולטור | B26: 0.69046003 | C26: מכויל לערך הדוגמה 3.204471486 בשכר 56.65, ותק 0
A27: וותק | B27: ימי הבראה | C27: ימי חופשה - 5 ימים
A28: 0 | B28: 7 | C28: 12
A29: 1 | B29: 7 | C29: 12
A30: 2 | B30: 7 | C30: 12
A31: 3 | B31: 9 | C31: 12
A32: 4 | B32: 9 | C32: 13
A33: 5 | B33: 10 | C33: 18
A34: 6 | B34: 10 | C34: 19
A35: 7 | B35: 10 | C35: 19
A36: 8 | B36: 10 | C36: 23
A37: 9 | B37: 10 | C37: 23
A38: 10 | B38: 10 | C38: 23
A39: 11 | B39: 10 | C39: 23
... A53: 25 | B53: 13 | C53: 23

Sheet 1. רמ"ש
A1: עלות שעת עבודה למעסיק - רמ"ש
A2: 5 ימי עבודה בשבוע | ללא אירועים מזכים | סכומים בש"ח לשעת עבודה
A4: רכיב עלות / שנות ותק | B4: 0 | C4: 1 | D4: 2 | E4: 3 | F4: 4 | G4: 5 | H4: 6 | I4: 7 | J4: 8 | K4: 9 | L4: 10 | M4: 11 | N4: 12 | O4: 13 | P4: 14 | Q4: 15 | R4: 16 | S4: 17 | T4: 18 | U4: 19 | V4: 20 | W4: 21 | X4: 22 | Y4: 23 | Z4: 24 | AA4: 25
A5: שנת העסקה | B5: 1 | C5: 2 | D5: 3 | E5: 4 | F5: 5 | G5: 6 | H5: 7 | I5: 8 | J5: 9 | K5: 10 | L5: 11 | M5: 12 | N5: 13 | O5: 14 | P5: 15 | Q5: 16 | R5: 17 | S5: 18 | T5: 19 | U5: 20 | V5: 21 | W5: 22 | X5: 23 | Y5: 24 | Z5: 25 | AA5: 26
A6: שכר יסוד שעתי | B6: 63 | C6: 63 | D6: 63 | E6: 63 | F6: 63 | G6: 63 | H6: 63 | I6: 63 | J6: 63 | K6: 63 | L6: 63 | M6: 63 | N6: 63 | O6: 63 | P6: 63 | Q6: 63 | R6: 63 | S6: 63 | T6: 63 | U6: 63 | V6: 63 | W6: 63 | X6: 63 | Y6: 63 | Z6: 63 | AA6: 63
A7: תוספת ותק | B7: 0 | C7: 0 | D7: 0 | E7: 0 | F7: 0 | G7: 0 | H7: 0 | I7: 0 | J7: 0 | K7: 0 | L7: 0 | M7: 0 | N7: 0 | O7: 0 | P7: 0 | Q7: 0 | R7: 0 | S7: 0 | T7: 0 | U7: 0 | V7: 0 | W7: 0 | X7: 0 | Y7: 0 | Z7: 0 | AA7: 0
A8: דמי הבראה | B8: =B18*'הנחות ונתוני עזר'!$B$18/'הנחות ונתוני עזר'!$B$15 -> 1.719086 | C8: =C18*'הנחות ונתוני עזר'!$B$18/'הנחות ונתוני עזר'!$B$15 -> 1.719086 | D8: =D18*'הנחות ונתוני עזר'!$B$18/'הנחות ונתוני עזר'!$B$15 -> 1.719086 | E8: =E18*'הנחות ונתוני עזר'!$B$18/'הנחות ונתוני עזר'!$B$15 -> 2.2102535 | F8: =F18*'הנחות ונתוני עזר'!$B$18/'הנחות ונתוני עזר'!$B$15 -> 2.2102535 | G8: =G18*'הנחות ונתוני עזר'!$B$18/'הנחות ונתוני עזר'!$B$15 -> 2.4558372 | H8: =H18*'הנחות ונתוני עזר'!$B$18/'הנחות ונתוני עזר'!$B$15 -> 2.4558372 | I8: =I18*'הנחות ונתוני עזר'!$B$18/'הנחות ונתוני עזר'!$B$15 -> 2.4558372 | ... AA8: =AA18*'הנחות ונתוני עזר'!$B$18/'הנחות ונתוני עזר'!$B$15 -> 3.1925883
A9: חופשה שנתית | B9: =(B6+B7)*'הנחות ונתוני עזר'!$B$16*B17/'הנחות ונתוני עזר'!$B$15 -> 3.0483871 | C9: =(C6+C7)*'הנחות ונתוני עזר'!$B$16*C17/'הנחות ונתוני עזר'!$B$15 -> 3.0483871 | D9: =(D6+D7)*'הנחות ונתוני עזר'!$B$16*D17/'הנחות ונתוני עזר'!$B$15 -> 3.0483871 | E9: =(E6+E7)*'הנחות ונתוני עזר'!$B$16*E17/'הנחות ונתוני עזר'!$B$15 -> 3.0483871 | F9: =(F6+F7)*'הנחות ונתוני עזר'!$B$16*F17/'הנחות ונתוני עזר'!$B$15 -> 3.3024194 | G9: =(G6+G7)*'הנחות ונתוני עזר'!$B$16*G17/'הנחות ונתוני עזר'!$B$15 -> 4.5725806 | H9: =(H6+H7)*'הנחות ונתוני עזר'!$B$16*H17/'הנחות ונתוני עזר'!$B$15 -> 4.8266129 | I9: =(I6+I7)*'הנחות ונתוני עזר'!$B$16*I17/'הנחות ונתוני עזר'!$B$15 -> 4.8266129 | ... AA9: =(AA6+AA7)*'הנחות ונתוני עזר'!$B$16*AA17/'הנחות ונתוני עזר'!$B$15 -> 5.8427419
A10: דמי ביטוח לאומי | B10: ='הנחות ונתוני עזר'!$B$21*MIN(B16,B19)+'הנחות ונתוני עזר'!$B$22*MAX(B16-B19,0) -> 3.8425109 | C10: ='הנחות ונתוני עזר'!$B$21*MIN(C16,C19)+'הנחות ונתוני עזר'!$B$22*MAX(C16-C19,0) -> 3.8425109 | D10: ='הנחות ונתוני עזר'!$B$21*MIN(D16,D19)+'הנחות ונתוני עזר'!$B$22*MAX(D16-D19,0) -> 3.8425109 | E10: ='הנחות ונתוני עזר'!$B$21*MIN(E16,E19)+'הנחות ונתוני עזר'!$B$22*MAX(E16-E19,0) -> 3.8798396 | F10: ='הנחות ונתוני עזר'!$B$21*MIN(F16,F19)+'הנחות ונתוני עזר'!$B$22*MAX(F16-F19,0) -> 3.8991461 | G10: ='הנחות ונתוני עזר'!$B$21*MIN(G16,G19)+'הנחות ונתוני עזר'!$B$22*MAX(G16-G19,0) -> 4.0143427 | H10: ='הנחות ונתוני עזר'!$B$21*MIN(H16,H19)+'הנחות ונתוני עזר'!$B$22*MAX(H16-H19,0) -> 4.0336492 | I10: ='הנחות ונתוני עזר'!$B$21*MIN(I16,I19)+'הנחות ונתוני עזר'!$B$22*MAX(I16-I19,0) -> 4.0336492 | ... AA10: ='הנחות ונתוני עזר'!$B$21*MIN(AA16,AA19)+'הנחות ונתוני עזר'!$B$22*MAX(AA16-AA19,0) -> 4.1668681
A11: פנסיה (תגמולים) | B11: ='הנחות ונתוני עזר'!$B$23*B16 -> 5.0825605 | C11: ='הנחות ונתוני עזר'!$B$23*C16 -> 5.0825605 | D11: ='הנחות ונתוני עזר'!$B$23*D16 -> 5.0825605 | E11: ='הנחות ונתוני עזר'!$B$23*E16 -> 5.119398 | F11: ='הנחות ונתוני עזר'!$B$23*F16 -> 5.1384505 | G11: ='הנחות ונתוני עזר'!$B$23*G16 -> 5.2521313 | H11: ='הנחות ונתוני עזר'!$B$23*H16 -> 5.2711838 | I11: ='הנחות ונתוני עזר'!$B$23*I16 -> 5.2711838 | ... AA11: ='הנחות ונתוני עזר'!$B$23*AA16 -> 5.4026498
A12: פנסיה (פיצויים) | B12: ='הנחות ונתוני עזר'!$B$24*B16 -> 5.6450305 | C12: ='הנחות ונתוני עזר'!$B$24*C16 -> 5.6450305 | D12: ='הנחות ונתוני עזר'!$B$24*D16 -> 5.6450305 | E12: ='הנחות ונתוני עזר'!$B$24*E16 -> 5.6859448 | F12: ='הנחות ונתוני עזר'!$B$24*F16 -> 5.7071056 | G12: ='הנחות ונתוני עזר'!$B$24*G16 -> 5.8333672 | H12: ='הנחות ונתוני עזר'!$B$24*H16 -> 5.8545281 | I12: ='הנחות ונתוני עזר'!$B$24*I16 -> 5.8545281 | ... AA12: ='הנחות ונתוני עזר'!$B$24*AA16 -> 6.000543
A13: קרן השתלמות | B13: ='הנחות ונתוני עזר'!$B$25*('הנחות ונתוני עזר'!$B$19+B8+'הנחות ונתוני עזר'!$B$26*B9) -> 3.2203827 | C13: ='הנחות ונתוני עזר'!$B$25*('הנחות ונתוני עזר'!$B$19+C8+'הנחות ונתוני עזר'!$B$26*C9) -> 3.2203827 | D13: ='הנחות ונתוני עזר'!$B$25*('הנחות ונתוני עזר'!$B$19+D8+'הנחות ונתוני עזר'!$B$26*D9) -> 3.2203827 | E13: ='הנחות ונתוני עזר'!$B$25*('הנחות ונתוני עזר'!$B$19+E8+'הנחות ונתוני עזר'!$B$26*E9) -> 3.2572202 | F13: ='הנחות ונתוני עזר'!$B$25*('הנחות ונתוני עזר'!$B$19+F8+'הנחות ונתוני עזר'!$B$26*F9) -> 3.2703752 | G13: ='הנחות ונתוני עזר'!$B$25*('הנחות ונתוני עזר'!$B$19+G8+'הנחות ונתוני עזר'!$B$26*G9) -> 3.3545686 | H13: ='הנחות ונתוני עזר'!$B$25*('הנחות ונתוני עזר'!$B$19+H8+'הנחות ונתוני עזר'!$B$26*H9) -> 3.3677236 | I13: ='הנחות ונתוני עזר'!$B$25*('הנחות ונתוני עזר'!$B$19+I8+'הנחות ונתוני עזר'!$B$26*I9) -> 3.3677236 | ... AA13: ='הנחות ונתוני עזר'!$B$25*('הנחות ונתוני עזר'!$B$19+AA8+'הנחות ונתוני עזר'!$B$26*AA9) -> 3.4755996
A14: סה"כ עלות שעת עבודה למעסיק | B14: =SUM(B6:B13) -> 85.557958 | C14: =SUM(C6:C13) -> 85.557958 | D14: =SUM(D6:D13) -> 85.557958 | E14: =SUM(E6:E13) -> 86.201043 | F14: =SUM(F6:F13) -> 86.52775 | G14: =SUM(G6:G13) -> 88.482828 | H14: =SUM(H6:H13) -> 88.809535 | I14: =SUM(I6:I13) -> 88.809535 | ... AA14: =SUM(AA6:AA13) -> 91.080991
A16: בסיס פנימי | B16: =B6+B7+B8+B9 -> 67.767473 | C16: =C6+C7+C8+C9 -> 67.767473 | D16: =D6+D7+D8+D9 -> 67.767473 | E16: =E6+E7+E8+E9 -> 68.258641 | F16: =F6+F7+F8+F9 -> 68.512673 | G16: =G6+G7+G8+G9 -> 70.028418 | H16: =H6+H7+H8+H9 -> 70.28245 | I16: =I6+I7+I8+I9 -> 70.28245 | ... AA16: =AA6+AA7+AA8+AA9 -> 72.03533
A17: ימי חופשה | B17: 12 | C17: 12 | D17: 12 | E17: 12 | F17: 13 | G17: 18 | H17: 19 | I17: 19 | J17: 23 | K17: 23 | L17: 23 | M17: 23 | N17: 23 | O17: 23 | P17: 23 | Q17: 23 | R17: 23 | S17: 23 | T17: 23 | U17: 23 | V17: 23 | W17: 23 | X17: 23 | Y17: 23 | Z17: 23 | AA17: 23
A18: ימי הבראה | B18: 7 | C18: 7 | D18: 7 | E18: 9 | F18: 9 | G18: 10 | H18: 10 | I18: 10 | J18: 10 | K18: 10 | L18: 10 | M18: 10 | N18: 10 | O18: 10 | P18: 10 | Q18: 11 | R18: 11 | S18: 11 | T18: 11 | U18: 12 | V18: 12 | W18: 12 | X18: 12 | Y18: 12 | Z18: 13 | AA18: 13
A19: סף בטל"א שעתי | B19: 42.324176 | C19: 42.324176 | D19: 42.324176 | E19: 42.324176 | F19: 42.324176 | G19: 42.324176 | H19: 42.324176 | I19: 42.324176 | J19: 42.324176 | K19: 42.324176 | L19: 42.324176 | M19: 42.324176 | N19: 42.324176 | O19: 42.324176 | P19: 42.324176 | Q19: 42.324176 | R19: 42.324176 | S19: 42.324176 | T19: 42.324176 | U19: 42.324176 | V19: 42.324176 | W19: 42.324176 | X19: 42.324176 | Y19: 42.324176 | Z19: 42.324176 | AA19: 42.324176

Sheet משוחזר_גיליון1
A1: עלות שעת עבודה למעסיק - מאבטח מתקדם ב'
A2: 5 ימי עבודה בשבוע | ללא אירועים מזכים | סכומים בש"ח לשעת עבודה
A4: רכיב עלות / שנות ותק | B4: 0 | C4: 1 | D4: 2 | E4: 3 | F4: 4 | G4: 5 | H4: 6 | I4: 7 | J4: 8 | K4: 9 | L4: 10 | M4: 11 | N4: 12 | O4: 13 | P4: 14 | Q4: 15 | R4: 16 | S4: 17 | T4: 18 | U4: 19 | V4: 20 | W4: 21 | X4: 22 | Y4: 23 | Z4: 24 | AA4: 25
A5: שנת העסקה | B5: 1 | C5: 2 | D5: 3 | E5: 4 | F5: 5 | G5: 6 | H5: 7 | I5: 8 | J5: 9 | K5: 10 | L5: 11 | M5: 12 | N5: 13 | O5: 14 | P5: 15 | Q5: 16 | R5: 17 | S5: 18 | T5: 19 | U5: 20 | V5: 21 | W5: 22 | X5: 23 | Y5: 24 | Z5: 25 | AA5: 26
A6: שכר יסוד שעתי | B6: 51 | C6: 53 | D6: 54 | E6: 54 | F6: 54 | G6: 54 | H6: 54 | I6: 54 | J6: 54 | K6: 54 | L6: 54 | M6: 54 | N6: 54 | O6: 54 | P6: 54 | Q6: 54 | R6: 54 | S6: 54 | T6: 54 | U6: 54 | V6: 54 | W6: 54 | X6: 54 | Y6: 54 | Z6: 54 | AA6: 54
A7: תוספת ותק | B7: 0 | C7: 0 | D7: 0 | E7: 0 | F7: 0 | G7: 0 | H7: 0 | I7: 0 | J7: 0 | K7: 0 | L7: 0 | M7: 0 | N7: 0 | O7: 0 | P7: 0 | Q7: 0 | R7: 0 | S7: 0 | T7: 0 | U7: 0 | V7: 0 | W7: 0 | X7: 0 | Y7: 0 | Z7: 0 | AA7: 0
A8: דמי הבראה | B8: =B18*'הנחות ונתוני עזר'!$B$18/'הנחות ונתוני עזר'!$B$15 -> 1.719086 | C8: =C18*'הנחות ונתוני עזר'!$B$18/'הנחות ונתוני עזר'!$B$15 -> 1.719086 | D8: =D18*'הנחות ונתוני עזר'!$B$18/'הנחות ונתוני עזר'!$B$15 -> 1.719086 | E8: =E18*'הנחות ונתוני עזר'!$B$18/'הנחות ונתוני עזר'!$B$15 -> 2.2102535 | F8: =F18*'הנחות ונתוני עזר'!$B$18/'הנחות ונתוני עזר'!$B$15 -> 2.2102535 | G8: =G18*'הנחות ונתוני עזר'!$B$18/'הנחות ונתוני עזר'!$B$15 -> 2.4558372 | H8: =H18*'הנחות ונתוני עזר'!$B$18/'הנחות ונתוני עזר'!$B$15 -> 2.4558372 | I8: =I18*'הנחות ונתוני עזר'!$B$18/'הנחות ונתוני עזר'!$B$15 -> 2.4558372 | ... AA8: =AA18*'הנחות ונתוני עזר'!$B$18/'הנחות ונתוני עזר'!$B$15 -> 3.1925883
A9: חופשה שנתית | B9: =(B6+B7)*'הנחות ונתוני עזר'!$B$16*B17/'הנחות ונתוני עזר'!$B$15 -> 2.4677419 | C9: =(C6+C7)*'הנחות ונתוני עזר'!$B$16*C17/'הנחות ונתוני עזר'!$B$15 -> 2.5645161 | D9: =(D6+D7)*'הנחות ונתוני עזר'!$B$16*D17/'הנחות ונתוני עזר'!$B$15 -> 2.6129032 | E9: =(E6+E7)*'הנחות ונתוני עזר'!$B$16*E17/'הנחות ונתוני עזר'!$B$15 -> 2.6129032 | F9: =(F6+F7)*'הנחות ונתוני עזר'!$B$16*F17/'הנחות ונתוני עזר'!$B$15 -> 2.8306452 | G9: =(G6+G7)*'הנחות ונתוני עזר'!$B$16*G17/'הנחות ונתוני עזר'!$B$15 -> 3.9193548 | H9: =(H6+H7)*'הנחות ונתוני עזר'!$B$16*H17/'הנחות ונתוני עזר'!$B$15 -> 4.1370968 | I9: =(I6+I7)*'הנחות ונתוני עזר'!$B$16*I17/'הנחות ונתוני עזר'!$B$15 -> 4.1370968 | ... AA9: =(AA6+AA7)*'הנחות ונתוני עזר'!$B$16*AA17/'הנחות ונתוני עזר'!$B$15 -> 5.0080645
A10: דמי ביטוח לאומי | B10: ='הנחות ונתוני עזר'!$B$21*MIN(B16,B19)+'הנחות ונתוני עזר'!$B$22*MAX(B16-B19,0) -> 2.8863819 | C10: ='הנחות ונתוני עזר'!$B$21*MIN(C16,C19)+'הנחות ונתוני עזר'!$B$22*MAX(C16-C19,0) -> 3.0457367 | D10: ='הנחות ונתוני עזר'!$B$21*MIN(D16,D19)+'הנחות ונתוני עזר'!$B$22*MAX(D16-D19,0) -> 3.1254141 | E10: ='הנחות ונתוני עזר'!$B$21*MIN(E16,E19)+'הנחות ונתוני עזר'!$B$22*MAX(E16-E19,0) -> 3.1627429 | F10: ='הנחות ונתוני עזר'!$B$21*MIN(F16,F19)+'הנחות ונתוני עזר'!$B$22*MAX(F16-F19,0) -> 3.1792913 | G10: ='הנחות ונתוני עזר'!$B$21*MIN(G16,G19)+'הנחות ונתוני עזר'!$B$22*MAX(G16-G19,0) -> 3.2806976 | H10: ='הנחות ונתוני עזר'!$B$21*MIN(H16,H19)+'הנחות ונתוני עזר'!$B$22*MAX(H16-H19,0) -> 3.2972459 | I10: ='הנחות ונתוני עזר'!$B$21*MIN(I16,I19)+'הנחות ונתוני עזר'!$B$22*MAX(I16-I19,0) -> 3.2972459 | ... AA10: ='הנחות ונתוני עזר'!$B$21*MIN(AA16,AA19)+'הנחות ונתוני עזר'!$B$22*MAX(AA16-AA19,0) -> 3.4194326
A11: פנסיה (תגמולים) | B11: ='הנחות ונתוני עזר'!$B$23*B16 -> 4.1390121 | C11: ='הנחות ונתוני עזר'!$B$23*C16 -> 4.2962702 | D11: ='הנחות ונתוני עזר'!$B$23*D16 -> 4.3748992 | E11: ='הנחות ונתוני עזר'!$B$23*E16 -> 4.4117368 | F11: ='הנחות ונתוני עזר'!$B$23*F16 -> 4.4280674 | G11: ='הנחות ונתוני עזר'!$B$23*G16 -> 4.5281394 | H11: ='הנחות ונתוני עזר'!$B$23*H16 -> 4.54447 | I11: ='הנחות ונתוני עזר'!$B$23*I16 -> 4.54447 | ... AA11: ='הנחות ונתוני עזר'!$B$23*AA16 -> 4.665049
A12: פנסיה (פיצויים) | B12: ='הנחות ונתוני עזר'!$B$24*B16 -> 4.5970628 | C12: ='הנחות ונתוני עזר'!$B$24*C16 -> 4.7717241 | D12: ='הנחות ונתוני עזר'!$B$24*D16 -> 4.8590547 | E12: ='הנחות ונתוני עזר'!$B$24*E16 -> 4.899969 | F12: ='הנחות ונתוני עזר'!$B$24*F16 -> 4.9181069 | G12: ='הנחות ונתוני עזר'!$B$24*G16 -> 5.0292535 | H12: ='הנחות ונתוני עזר'!$B$24*H16 -> 5.0473914 | I12: ='הנחות ונתוני עזר'!$B$24*I16 -> 5.0473914 | ... AA12: ='הנחות ונתוני עזר'!$B$24*AA16 -> 5.1813144
A13: קרן השתלמות | B13: ='הנחות ונתוני עזר'!$B$25*('הנחות ונתוני עזר'!$B$19+B8+'הנחות ונתוני עזר'!$B$26*B9) -> 3.1903143 | C13: ='הנחות ונתוני עזר'!$B$25*('הנחות ונתוני עזר'!$B$19+C8+'הנחות ונתוני עזר'!$B$26*C9) -> 3.1953257 | D13: ='הנחות ונתוני עזר'!$B$25*('הנחות ונתוני עזר'!$B$19+D8+'הנחות ונתוני עזר'!$B$26*D9) -> 3.1978314 | E13: ='הנחות ונתוני עזר'!$B$25*('הנחות ונתוני עזר'!$B$19+E8+'הנחות ונתוני עזר'!$B$26*E9) -> 3.2346689 | F13: ='הנחות ונתוני עזר'!$B$25*('הנחות ונתוני עזר'!$B$19+F8+'הנחות ונתוני עזר'!$B$26*F9) -> 3.2459446 | G13: ='הנחות ונתוני עזר'!$B$25*('הנחות ונתוני עזר'!$B$19+G8+'הנחות ונתוני עזר'!$B$26*G9) -> 3.3207417 | H13: ='הנחות ונתוני עזר'!$B$25*('הנחות ונתוני עזר'!$B$19+H8+'הנחות ונתוני עזר'!$B$26*H9) -> 3.3320173 | I13: ='הנחות ונתוני עזר'!$B$25*('הנחות ונתוני עזר'!$B$19+I8+'הנחות ונתוני עזר'!$B$26*I9) -> 3.3320173 | ... AA13: ='הנחות ונתוני עזר'!$B$25*('הנחות ונתוני עזר'!$B$19+AA8+'הנחות ונתוני עזר'!$B$26*AA9) -> 3.4323763
A14: סה"כ עלות שעת עבודה למעסיק | B14: =SUM(B6:B13) -> 69.999599 | C14: =SUM(C6:C13) -> 72.592659 | D14: =SUM(D6:D13) -> 73.889189 | E14: =SUM(E6:E13) -> 74.532274 | F14: =SUM(F6:F13) -> 74.812309 | G14: =SUM(G6:G13) -> 76.534024 | H14: =SUM(H6:H13) -> 76.814059 | I14: =SUM(I6:I13) -> 76.814059 | ... AA14: =SUM(AA6:AA13) -> 78.898825
A16: בסיס פנימי | B16: =B6+B7+B8+B9 -> 55.186828 | C16: =C6+C7+C8+C9 -> 57.283602 | D16: =D6+D7+D8+D9 -> 58.331989 | E16: =E6+E7+E8+E9 -> 58.823157 | F16: =F6+F7+F8+F9 -> 59.040899 | G16: =G6+G7+G8+G9 -> 60.375192 | H16: =H6+H7+H8+H9 -> 60.592934 | I16: =I6+I7+I8+I9 -> 60.592934 | ... AA16: =AA6+AA7+AA8+AA9 -> 62.200653
A17: ימי חופשה | B17: 12 | C17: 12 | D17: 12 | E17: 12 | F17: 13 | G17: 18 | H17: 19 | I17: 19 | J17: 23 | K17: 23 | L17: 23 | M17: 23 | N17: 23 | O17: 23 | P17: 23 | Q17: 23 | R17: 23 | S17: 23 | T17: 23 | U17: 23 | V17: 23 | W17: 23 | X17: 23 | Y17: 23 | Z17: 23 | AA17: 23
A18: ימי הבראה | B18: 7 | C18: 7 | D18: 7 | E18: 9 | F18: 9 | G18: 10 | H18: 10 | I18: 10 | J18: 10 | K18: 10 | L18: 10 | M18: 10 | N18: 10 | O18: 10 | P18: 10 | Q18: 11 | R18: 11 | S18: 11 | T18: 11 | U18: 12 | V18: 12 | W18: 12 | X18: 12 | Y18: 12 | Z18: 13 | AA18: 13
A19: סף בטל"א שעתי | B19: 42.324176 | C19: 42.324176 | D19: 42.324176 | E19: 42.324176 | F19: 42.324176 | G19: 42.324176 | H19: 42.324176 | I19: 42.324176 | J19: 42.324176 | K19: 42.324176 | L19: 42.324176 | M19: 42.324176 | N19: 42.324176 | O19: 42.324176 | P19: 42.324176 | Q19: 42.324176 | R19: 42.324176 | S19: 42.324176 | T19: 42.324176 | U19: 42.324176 | V19: 42.324176 | W19: 42.324176 | X19: 42.324176 | Y19: 42.324176 | Z19: 42.324176 | AA19: 42.324176

Sheet 3. מאבטח מתקדם ב' - קריה חקלאית
A1: עלות שעת עבודה למעסיק - מאבטח מתקדם ב' - קריה חקלאית (מאבטח שרים ג')
A2: 5 ימי עבודה בשבוע | ללא אירועים מזכים | סכומים בש"ח לשעת עבודה
A4: רכיב עלות / שנות ותק | B4: 0 | C4: 1 | D4: 2 | E4: 3 | F4: 4 | G4: 5 | H4: 6 | I4: 7 | J4: 8 | K4: 9 | L4: 10 | M4: 11 | N4: 12 | O4: 13 | P4: 14 | Q4: 15 | R4: 16 | S4: 17 | T4: 18 | U4: 19 | V4: 20 | W4: 21 | X4: 22 | Y4: 23 | Z4: 24 | AA4: 25
A5: שנת העסקה | B5: 1 | C5: 2 | D5: 3 | E5: 4 | F5: 5 | G5: 6 | H5: 7 | I5: 8 | J5: 9 | K5: 10 | L5: 11 | M5: 12 | N5: 13 | O5: 14 | P5: 15 | Q5: 16 | R5: 17 | S5: 18 | T5: 19 | U5: 20 | V5: 21 | W5: 22 | X5: 23 | Y5: 24 | Z5: 25 | AA5: 26
A6: שכר יסוד שעתי | B6: 59 | C6: 61 | D6: 62 | E6: 62 | F6: 62 | G6: 62 | H6: 62 | I6: 62 | J6: 62 | K6: 62 | L6: 62 | M6: 62 | N6: 62 | O6: 62 | P6: 62 | Q6: 62 | R6: 62 | S6: 62 | T6: 62 | U6: 62 | V6: 62 | W6: 62 | X6: 62 | Y6: 62 | Z6: 62 | AA6: 62
A7: תוספת ותק | B7: 0 | C7: 0 | D7: 0 | E7: 0 | F7: 0 | G7: 0 | H7: 0 | I7: 0 | J7: 0 | K7: 0 | L7: 0 | M7: 0 | N7: 0 | O7: 0 | P7: 0 | Q7: 0 | R7: 0 | S7: 0 | T7: 0 | U7: 0 | V7: 0 | W7: 0 | X7: 0 | Y7: 0 | Z7: 0 | AA7: 0
A8: דמי הבראה | B8: =B18*'הנחות ונתוני עזר'!$B$18/'הנחות ונתוני עזר'!$B$15 -> 1.719086 | C8: =C18*'הנחות ונתוני עזר'!$B$18/'הנחות ונתוני עזר'!$B$15 -> 1.719086 | D8: =D18*'הנחות ונתוני עזר'!$B$18/'הנחות ונתוני עזר'!$B$15 -> 1.719086 | E8: =E18*'הנחות ונתוני עזר'!$B$18/'הנחות ונתוני עזר'!$B$15 -> 2.2102535 | F8: =F18*'הנחות ונתוני עזר'!$B$18/'הנחות ונתוני עזר'!$B$15 -> 2.2102535 | G8: =G18*'הנחות ונתוני עזר'!$B$18/'הנחות ונתוני עזר'!$B$15 -> 2.4558372 | H8: =H18*'הנחות ונתוני עזר'!$B$18/'הנחות ונתוני עזר'!$B$15 -> 2.4558372 | I8: =I18*'הנחות ונתוני עזר'!$B$18/'הנחות ונתוני עזר'!$B$15 -> 2.4558372 | ... AA8: =AA18*'הנחות ונתוני עזר'!$B$18/'הנחות ונתוני עזר'!$B$15 -> 3.1925883
A9: חופשה שנתית | B9: =(B6+B7)*'הנחות ונתוני עזר'!$B$16*B17/'הנחות ונתוני עזר'!$B$15 -> 2.8548387 | C9: =(C6+C7)*'הנחות ונתוני עזר'!$B$16*C17/'הנחות ונתוני עזר'!$B$15 -> 2.9516129 | D9: =(D6+D7)*'הנחות ונתוני עזר'!$B$16*D17/'הנחות ונתוני עזר'!$B$15 -> 3 | E9: =(E6+E7)*'הנחות ונתוני עזר'!$B$16*E17/'הנחות ונתוני עזר'!$B$15 -> 3 | F9: =(F6+F7)*'הנחות ונתוני עזר'!$B$16*F17/'הנחות ונתוני עזר'!$B$15 -> 3.25 | G9: =(G6+G7)*'הנחות ונתוני עזר'!$B$16*G17/'הנחות ונתוני עזר'!$B$15 -> 4.5 | H9: =(H6+H7)*'הנחות ונתוני עזר'!$B$16*H17/'הנחות ונתוני עזר'!$B$15 -> 4.75 | I9: =(I6+I7)*'הנחות ונתוני עזר'!$B$16*I17/'הנחות ונתוני עזר'!$B$15 -> 4.75 | ... AA9: =(AA6+AA7)*'הנחות ונתוני עזר'!$B$16*AA17/'הנחות ונתוני עזר'!$B$15 -> 5.75
A10: דמי ביטוח לאומי | B10: ='הנחות ונתוני עזר'!$B$21*MIN(B16,B19)+'הנחות ונתוני עזר'!$B$22*MAX(B16-B19,0) -> 3.5238012 | C10: ='הנחות ונתוני עזר'!$B$21*MIN(C16,C19)+'הנחות ונתוני עזר'!$B$22*MAX(C16-C19,0) -> 3.6831561 | D10: ='הנחות ונתוני עזר'!$B$21*MIN(D16,D19)+'הנחות ונתוני עזר'!$B$22*MAX(D16-D19,0) -> 3.7628335 | E10: ='הנחות ונתוני עזר'!$B$21*MIN(E16,E19)+'הנחות ונתוני עזר'!$B$22*MAX(E16-E19,0) -> 3.8001622 | F10: ='הנחות ונתוני עזר'!$B$21*MIN(F16,F19)+'הנחות ונתוני עזר'!$B$22*MAX(F16-F19,0) -> 3.8191622 | G10: ='הנחות ונתוני עזר'!$B$21*MIN(G16,G19)+'הנחות ונתוני עזר'!$B$22*MAX(G16-G19,0) -> 3.9328266 | H10: ='הנחות ונתוני עזר'!$B$21*MIN(H16,H19)+'הנחות ונתוני עזר'!$B$22*MAX(H16-H19,0) -> 3.9518266 | I10: ='הנחות ונתוני עזר'!$B$21*MIN(I16,I19)+'הנחות ונתוני עזר'!$B$22*MAX(I16-I19,0) -> 3.9518266 | ... AA10: ='הנחות ונתוני עזר'!$B$21*MIN(AA16,AA19)+'הנחות ונתוני עזר'!$B$22*MAX(AA16-AA19,0) -> 4.0838197
A11: פנסיה (תגמולים) | B11: ='הנחות ונתוני עזר'!$B$23*B16 -> 4.7680444 | C11: ='הנחות ונתוני עזר'!$B$23*C16 -> 4.9253024 | D11: ='הנחות ונתוני עזר'!$B$23*D16 -> 5.0039315 | E11: ='הנחות ונתוני עזר'!$B$23*E16 -> 5.040769 | F11: ='הנחות ונתוני עזר'!$B$23*F16 -> 5.059519 | G11: ='הנחות ונתוני עזר'!$B$23*G16 -> 5.1716878 | H11: ='הנחות ונתוני עזר'!$B$23*H16 -> 5.1904378 | I11: ='הנחות ונתוני עזר'!$B$23*I16 -> 5.1904378 | ... AA11: ='הנחות ונתוני עזר'!$B$23*AA16 -> 5.3206941
A12: פנסיה (פיצויים) | B12: ='הנחות ונתוני עזר'!$B$24*B16 -> 5.2957079 | C12: ='הנחות ונתוני עזר'!$B$24*C16 -> 5.4703692 | D12: ='הנחות ונתוני עזר'!$B$24*D16 -> 5.5576999 | E12: ='הנחות ונתוני עזר'!$B$24*E16 -> 5.5986141 | F12: ='הנחות ונתוני עזר'!$B$24*F16 -> 5.6194391 | G12: ='הנחות ונתוני עזר'!$B$24*G16 -> 5.7440212 | H12: ='הנחות ונתוני עזר'!$B$24*H16 -> 5.7648462 | I12: ='הנחות ונתוני עזר'!$B$24*I16 -> 5.7648462 | ... AA12: ='הנחות ונתוני עזר'!$B$24*AA16 -> 5.9095176
A13: קרן השתלמות | B13: ='הנחות ונתוני עזר'!$B$25*('הנחות ונתוני עזר'!$B$19+B8+'הנחות ונתוני עזר'!$B$26*B9) -> 3.2103599 | C13: ='הנחות ונתוני עזר'!$B$25*('הנחות ונתוני עזר'!$B$19+C8+'הנחות ונתוני עזר'!$B$26*C9) -> 3.2153713 | D13: ='הנחות ונתוני עזר'!$B$25*('הנחות ונתוני עזר'!$B$19+D8+'הנחות ונתוני עזר'!$B$26*D9) -> 3.217877 | E13: ='הנחות ונתוני עזר'!$B$25*('הנחות ונתוני עזר'!$B$19+E8+'הנחות ונתוני עזר'!$B$26*E9) -> 3.2547145 | F13: ='הנחות ונתוני עזר'!$B$25*('הנחות ונתוני עזר'!$B$19+F8+'הנחות ונתוני עזר'!$B$26*F9) -> 3.2676607 | G13: ='הנחות ונתוני עזר'!$B$25*('הנחות ונתוני עזר'!$B$19+G8+'הנחות ונתוני עזר'!$B$26*G9) -> 3.3508101 | H13: ='הנחות ונתוני עזר'!$B$25*('הנחות ונתוני עזר'!$B$19+H8+'הנחות ונתוני עזר'!$B$26*H9) -> 3.3637562 | I13: ='הנחות ונתוני עזר'!$B$25*('הנחות ונתוני עזר'!$B$19+I8+'הנחות ונתוני עזר'!$B$26*I9) -> 3.3637562 | ... AA13: ='הנחות ונתוני עזר'!$B$25*('הנחות ונתוני עזר'!$B$19+AA8+'הנחות ונתוני עזר'!$B$26*AA9) -> 3.470797
A14: סה"כ עלות שעת עבודה למעסיק | B14: =SUM(B6:B13) -> 80.371838 | C14: =SUM(C6:C13) -> 82.964898 | D14: =SUM(D6:D13) -> 84.261428 | E14: =SUM(E6:E13) -> 84.904513 | F14: =SUM(F6:F13) -> 85.226034 | G14: =SUM(G6:G13) -> 87.155183 | H14: =SUM(H6:H13) -> 87.476704 | I14: =SUM(I6:I13) -> 87.476704 | ... AA14: =SUM(AA6:AA13) -> 89.727417
A16: בסיס פנימי | B16: =B6+B7+B8+B9 -> 63.573925 | C16: =C6+C7+C8+C9 -> 65.670699 | D16: =D6+D7+D8+D9 -> 66.719086 | E16: =E6+E7+E8+E9 -> 67.210253 | F16: =F6+F7+F8+F9 -> 67.460253 | G16: =G6+G7+G8+G9 -> 68.955837 | H16: =H6+H7+H8+H9 -> 69.205837 | I16: =I6+I7+I8+I9 -> 69.205837 | ... AA16: =AA6+AA7+AA8+AA9 -> 70.942588
A17: ימי חופשה | B17: 12 | C17: 12 | D17: 12 | E17: 12 | F17: 13 | G17: 18 | H17: 19 | I17: 19 | J17: 23 | K17: 23 | L17: 23 | M17: 23 | N17: 23 | O17: 23 | P17: 23 | Q17: 23 | R17: 23 | S17: 23 | T17: 23 | U17: 23 | V17: 23 | W17: 23 | X17: 23 | Y17: 23 | Z17: 23 | AA17: 23
A18: ימי הבראה | B18: 7 | C18: 7 | D18: 7 | E18: 9 | F18: 9 | G18: 10 | H18: 10 | I18: 10 | J18: 10 | K18: 10 | L18: 10 | M18: 10 | N18: 10 | O18: 10 | P18: 10 | Q18: 11 | R18: 11 | S18: 11 | T18: 11 | U18: 12 | V18: 12 | W18: 12 | X18: 12 | Y18: 12 | Z18: 13 | AA18: 13
A19: סף בטל"א שעתי | B19: 42.324176 | C19: 42.324176 | D19: 42.324176 | E19: 42.324176 | F19: 42.324176 | G19: 42.324176 | H19: 42.324176 | I19: 42.324176 | J19: 42.324176 | K19: 42.324176 | L19: 42.324176 | M19: 42.324176 | N19: 42.324176 | O19: 42.324176 | P19: 42.324176 | Q19: 42.324176 | R19: 42.324176 | S19: 42.324176 | T19: 42.324176 | U19: 42.324176 | V19: 42.324176 | W19: 42.324176 | X19: 42.324176 | Y19: 42.324176 | Z19: 42.324176 | AA19: 42.324176

Sheet 4. מאבטח מתקדם ב' - בית השר (מא
A1: עלות שעת עבודה למעסיק - מאבטח מתקדם ב' - בית השר (מאבטח שרים ב')
A2: 5 ימי עבודה בשבוע | ללא אירועים מזכים | סכומים בש"ח לשעת עבודה
A4: רכיב עלות / שנות ותק | B4: 0 | C4: 1 | D4: 2 | E4: 3 | F4: 4 | G4: 5 | H4: 6 | I4: 7 | J4: 8 | K4: 9 | L4: 10 | M4: 11 | N4: 12 | O4: 13 | P4: 14 | Q4: 15 | R4: 16 | S4: 17 | T4: 18 | U4: 19 | V4: 20 | W4: 21 | X4: 22 | Y4: 23 | Z4: 24 | AA4: 25
A5: שנת העסקה | B5: 1 | C5: 2 | D5: 3 | E5: 4 | F5: 5 | G5: 6 | H5: 7 | I5: 8 | J5: 9 | K5: 10 | L5: 11 | M5: 12 | N5: 13 | O5: 14 | P5: 15 | Q5: 16 | R5: 17 | S5: 18 | T5: 19 | U5: 20 | V5: 21 | W5: 22 | X5: 23 | Y5: 24 | Z5: 25 | AA5: 26
A6: שכר יסוד שעתי | B6: 61.5 | C6: 63.5 | D6: 64.5 | E6: 64.5 | F6: 64.5 | G6: 64.5 | H6: 64.5 | I6: 64.5 | J6: 64.5 | K6: 64.5 | L6: 64.5 | M6: 64.5 | N6: 64.5 | O6: 64.5 | P6: 64.5 | Q6: 64.5 | R6: 64.5 | S6: 64.5 | T6: 64.5 | U6: 64.5 | V6: 64.5 | W6: 64.5 | X6: 64.5 | Y6: 64.5 | Z6: 64.5 | AA6: 64.5
A7: תוספת ותק | B7: 0 | C7: 0 | D7: 0 | E7: 0 | F7: 0 | G7: 0 | H7: 0 | I7: 0 | J7: 0 | K7: 0 | L7: 0 | M7: 0 | N7: 0 | O7: 0 | P7: 0 | Q7: 0 | R7: 0 | S7: 0 | T7: 0 | U7: 0 | V7: 0 | W7: 0 | X7: 0 | Y7: 0 | Z7: 0 | AA7: 0
A8: דמי הבראה | B8: =B18*'הנחות ונתוני עזר'!$B$18/'הנחות ונתוני עזר'!$B$15 -> 1.719086 | C8: =C18*'הנחות ונתוני עזר'!$B$18/'הנחות ונתוני עזר'!$B$15 -> 1.719086 | D8: =D18*'הנחות ונתוני עזר'!$B$18/'הנחות ונתוני עזר'!$B$15 -> 1.719086 | E8: =E18*'הנחות ונתוני עזר'!$B$18/'הנחות ונתוני עזר'!$B$15 -> 2.2102535 | F8: =F18*'הנחות ונתוני עזר'!$B$18/'הנחות ונתוני עזר'!$B$15 -> 2.2102535 | G8: =G18*'הנחות ונתוני עזר'!$B$18/'הנחות ונתוני עזר'!$B$15 -> 2.4558372 | H8: =H18*'הנחות ונתוני עזר'!$B$18/'הנחות ונתוני עזר'!$B$15 -> 2.4558372 | I8: =I18*'הנחות ונתוני עזר'!$B$18/'הנחות ונתוני עזר'!$B$15 -> 2.4558372 | ... AA8: =AA18*'הנחות ונתוני עזר'!$B$18/'הנחות ונתוני עזר'!$B$15 -> 3.1925883
A9: חופשה שנתית | B9: =(B6+B7)*'הנחות ונתוני עזר'!$B$16*B17/'הנחות ונתוני עזר'!$B$15 -> 2.9758065 | C9: =(C6+C7)*'הנחות ונתוני עזר'!$B$16*C17/'הנחות ונתוני עזר'!$B$15 -> 3.0725806 | D9: =(D6+D7)*'הנחות ונתוני עזר'!$B$16*D17/'הנחות ונתוני עזר'!$B$15 -> 3.1209677 | E9: =(E6+E7)*'הנחות ונתוני עזר'!$B$16*E17/'הנחות ונתוני עזר'!$B$15 -> 3.1209677 | F9: =(F6+F7)*'הנחות ונתוני עזר'!$B$16*F17/'הנחות ונתוני עזר'!$B$15 -> 3.3810484 | G9: =(G6+G7)*'הנחות ונתוני עזר'!$B$16*G17/'הנחות ונתוני עזר'!$B$15 -> 4.6814516 | H9: =(H6+H7)*'הנחות ונתוני עזר'!$B$16*H17/'הנחות ונתוני עזר'!$B$15 -> 4.9415323 | I9: =(I6+I7)*'הנחות ונתוני עזר'!$B$16*I17/'הנחות ונתוני עזר'!$B$15 -> 4.9415323 | ... AA9: =(AA6+AA7)*'הנחות ונתוני עזר'!$B$16*AA17/'הנחות ונתוני עזר'!$B$15 -> 5.9818548
A10: דמי ביטוח לאומי | B10: ='הנחות ונתוני עזר'!$B$21*MIN(B16,B19)+'הנחות ונתוני עזר'!$B$22*MAX(B16-B19,0) -> 3.7229948 | C10: ='הנחות ונתוני עזר'!$B$21*MIN(C16,C19)+'הנחות ונתוני עזר'!$B$22*MAX(C16-C19,0) -> 3.8823496 | D10: ='הנחות ונתוני עזר'!$B$21*MIN(D16,D19)+'הנחות ונתוני עזר'!$B$22*MAX(D16-D19,0) -> 3.9620271 | E10: ='הנחות ונתוני עזר'!$B$21*MIN(E16,E19)+'הנחות ונתוני עזר'!$B$22*MAX(E16-E19,0) -> 3.9993558 | F10: ='הנחות ונתוני עזר'!$B$21*MIN(F16,F19)+'הנחות ונתוני עזר'!$B$22*MAX(F16-F19,0) -> 4.0191219 | G10: ='הנחות ונתוני עזר'!$B$21*MIN(G16,G19)+'הנחות ונתוני עזר'!$B$22*MAX(G16-G19,0) -> 4.1366169 | H10: ='הנחות ונתוני עזר'!$B$21*MIN(H16,H19)+'הנחות ונתוני עזר'!$B$22*MAX(H16-H19,0) -> 4.156383 | I10: ='הנחות ונתוני עזר'!$B$21*MIN(I16,I19)+'הנחות ונתוני עזר'!$B$22*MAX(I16-I19,0) -> 4.156383 | ... AA10: ='הנחות ונתוני עזר'!$B$21*MIN(AA16,AA19)+'הנחות ונתוני עזר'!$B$22*MAX(AA16-AA19,0) -> 4.2914406
A11: פנסיה (תגמולים) | B11: ='הנחות ונתוני עזר'!$B$23*B16 -> 4.9646169 | C11: ='הנחות ונתוני עזר'!$B$23*C16 -> 5.121875 | D11: ='הנחות ונתוני עזר'!$B$23*D16 -> 5.200504 | E11: ='הנחות ונתוני עזר'!$B$23*E16 -> 5.2373416 | F11: ='הנחות ונתוני עזר'!$B$23*F16 -> 5.2568476 | G11: ='הנחות ונתוני עזר'!$B$23*G16 -> 5.3727967 | H11: ='הנחות ונתוני עזר'!$B$23*H16 -> 5.3923027 | I11: ='הנחות ונתוני עזר'!$B$23*I16 -> 5.3923027 | ... AA11: ='הנחות ונתוני עזר'!$B$23*AA16 -> 5.5255832
A12: פנסיה (פיצויים) | B12: ='הנחות ונתוני עזר'!$B$24*B16 -> 5.5140345 | C12: ='הנחות ונתוני עזר'!$B$24*C16 -> 5.6886958 | D12: ='הנחות ונתוני עזר'!$B$24*D16 -> 5.7760265 | E12: ='הנחות ונתוני עזר'!$B$24*E16 -> 5.8169407 | F12: ='הנחות ונתוני עזר'!$B$24*F16 -> 5.8386054 | G12: ='הנחות ונתוני עזר'!$B$24*G16 -> 5.9673862 | H12: ='הנחות ונתוני עזר'!$B$24*H16 -> 5.9890509 | I12: ='הנחות ונתוני עזר'!$B$24*I16 -> 5.9890509 | ... AA12: ='הנחות ונתוני עזר'!$B$24*AA16 -> 6.1370811
A13: קרן השתלמות | B13: ='הנחות ונתוני עזר'!$B$25*('הנחות ונתוני עזר'!$B$19+B8+'הנחות ונתוני עזר'!$B$26*B9) -> 3.2166241 | C13: ='הנחות ונתוני עזר'!$B$25*('הנחות ונתוני עזר'!$B$19+C8+'הנחות ונתוני עזר'!$B$26*C9) -> 3.2216355 | D13: ='הנחות ונתוני עזר'!$B$25*('הנחות ונתוני עזר'!$B$19+D8+'הנחות ונתוני עזר'!$B$26*D9) -> 3.2241412 | E13: ='הנחות ונתוני עזר'!$B$25*('הנחות ונתוני עזר'!$B$19+E8+'הנחות ונתוני עזר'!$B$26*E9) -> 3.2609788 | F13: ='הנחות ונתוני עזר'!$B$25*('הנחות ונתוני עזר'!$B$19+F8+'הנחות ונתוני עזר'!$B$26*F9) -> 3.2744469 | G13: ='הנחות ונתוני עזר'!$B$25*('הנחות ונתוני עזר'!$B$19+G8+'הנחות ונתוני עזר'!$B$26*G9) -> 3.3602065 | H13: ='הנחות ונתוני עזר'!$B$25*('הנחות ונתוני עזר'!$B$19+H8+'הנחות ונתוני עזר'!$B$26*H9) -> 3.3736746 | I13: ='הנחות ונתוני עזר'!$B$25*('הנחות ונתוני עזר'!$B$19+I8+'הנחות ונתוני עזר'!$B$26*I9) -> 3.3736746 | ... AA13: ='הנחות ונתוני עזר'!$B$25*('הנחות ונתוני עזר'!$B$19+AA8+'הנחות ונתוני עזר'!$B$26*AA9) -> 3.4828035
A14: סה"כ עלות שעת עבודה למעסיק | B14: =SUM(B6:B13) -> 83.613163 | C14: =SUM(C6:C13) -> 86.206223 | D14: =SUM(D6:D13) -> 87.502753 | E14: =SUM(E6:E13) -> 88.145838 | F14: =SUM(F6:F13) -> 88.480324 | G14: =SUM(G6:G13) -> 90.474295 | H14: =SUM(H6:H13) -> 90.808781 | I14: =SUM(I6:I13) -> 90.808781 | ... AA14: =SUM(AA6:AA13) -> 93.111352
A16: בסיס פנימי | B16: =B6+B7+B8+B9 -> 66.194892 | C16: =C6+C7+C8+C9 -> 68.291667 | D16: =D6+D7+D8+D9 -> 69.340054 | E16: =E6+E7+E8+E9 -> 69.831221 | F16: =F6+F7+F8+F9 -> 70.091302 | G16: =G6+G7+G8+G9 -> 71.637289 | H16: =H6+H7+H8+H9 -> 71.897369 | I16: =I6+I7+I8+I9 -> 71.897369 | ... AA16: =AA6+AA7+AA8+AA9 -> 73.674443
A17: ימי חופשה | B17: 12 | C17: 12 | D17: 12 | E17: 12 | F17: 13 | G17: 18 | H17: 19 | I17: 19 | J17: 23 | K17: 23 | L17: 23 | M17: 23 | N17: 23 | O17: 23 | P17: 23 | Q17: 23 | R17: 23 | S17: 23 | T17: 23 | U17: 23 | V17: 23 | W17: 23 | X17: 23 | Y17: 23 | Z17: 23 | AA17: 23
A18: ימי הבראה | B18: 7 | C18: 7 | D18: 7 | E18: 9 | F18: 9 | G18: 10 | H18: 10 | I18: 10 | J18: 10 | K18: 10 | L18: 10 | M18: 10 | N18: 10 | O18: 10 | P18: 10 | Q18: 11 | R18: 11 | S18: 11 | T18: 11 | U18: 12 | V18: 12 | W18: 12 | X18: 12 | Y18: 12 | Z18: 13 | AA18: 13
A19: סף בטל"א שעתי | B19: 42.324176 | C19: 42.324176 | D19: 42.324176 | E19: 42.324176 | F19: 42.324176 | G19: 42.324176 | H19: 42.324176 | I19: 42.324176 | J19: 42.324176 | K19: 42.324176 | L19: 42.324176 | M19: 42.324176 | N19: 42.324176 | O19: 42.324176 | P19: 42.324176 | Q19: 42.324176 | R19: 42.324176 | S19: 42.324176 | T19: 42.324176 | U19: 42.324176 | V19: 42.324176 | W19: 42.324176 | X19: 42.324176 | Y19: 42.324176 | Z19: 42.324176 | AA19: 42.324176

Sheet 5. מאבטח בסיסי - בודק ביטחוני
A1: עלות שעת עבודה למעסיק - מאבטח בסיסי / בודק ביטחוני
A2: 5 ימי עבודה בשבוע | ללא אירועים מזכים | סכומים בש"ח לשעת עבודה
A4: רכיב עלות / שנות ותק | B4: 0 | C4: 1 | D4: 2 | E4: 3 | F4: 4 | G4: 5 | H4: 6 | I4: 7 | J4: 8 | K4: 9 | L4: 10 | M4: 11 | N4: 12 | O4: 13 | P4: 14 | Q4: 15 | R4: 16 | S4: 17 | T4: 18 | U4: 19 | V4: 20 | W4: 21 | X4: 22 | Y4: 23 | Z4: 24 | AA4: 25
A5: שנת העסקה | B5: 1 | C5: 2 | D5: 3 | E5: 4 | F5: 5 | G5: 6 | H5: 7 | I5: 8 | J5: 9 | K5: 10 | L5: 11 | M5: 12 | N5: 13 | O5: 14 | P5: 15 | Q5: 16 | R5: 17 | S5: 18 | T5: 19 | U5: 20 | V5: 21 | W5: 22 | X5: 23 | Y5: 24 | Z5: 25 | AA5: 26
A6: שכר יסוד שעתי | B6: 48.5 | C6: 50.5 | D6: 51.5 | E6: 51.5 | F6: 51.5 | G6: 51.5 | H6: 51.5 | I6: 51.5 | J6: 51.5 | K6: 51.5 | L6: 51.5 | M6: 51.5 | N6: 51.5 | O6: 51.5 | P6: 51.5 | Q6: 51.5 | R6: 51.5 | S6: 51.5 | T6: 51.5 | U6: 51.5 | V6: 51.5 | W6: 51.5 | X6: 51.5 | Y6: 51.5 | Z6: 51.5 | AA6: 51.5
A7: תוספת ותק | B7: 0 | C7: 0 | D7: 0 | E7: 0 | F7: 0 | G7: 0 | H7: 0 | I7: 0 | J7: 0 | K7: 0 | L7: 0 | M7: 0 | N7: 0 | O7: 0 | P7: 0 | Q7: 0 | R7: 0 | S7: 0 | T7: 0 | U7: 0 | V7: 0 | W7: 0 | X7: 0 | Y7: 0 | Z7: 0 | AA7: 0
A8: דמי הבראה | B8: =B18*'הנחות ונתוני עזר'!$B$18/'הנחות ונתוני עזר'!$B$15 -> 1.719086 | C8: =C18*'הנחות ונתוני עזר'!$B$18/'הנחות ונתוני עזר'!$B$15 -> 1.719086 | D8: =D18*'הנחות ונתוני עזר'!$B$18/'הנחות ונתוני עזר'!$B$15 -> 1.719086 | E8: =E18*'הנחות ונתוני עזר'!$B$18/'הנחות ונתוני עזר'!$B$15 -> 2.2102535 | F8: =F18*'הנחות ונתוני עזר'!$B$18/'הנחות ונתוני עזר'!$B$15 -> 2.2102535 | G8: =G18*'הנחות ונתוני עזר'!$B$18/'הנחות ונתוני עזר'!$B$15 -> 2.4558372 | H8: =H18*'הנחות ונתוני עזר'!$B$18/'הנחות ונתוני עזר'!$B$15 -> 2.4558372 | I8: =I18*'הנחות ונתוני עזר'!$B$18/'הנחות ונתוני עזר'!$B$15 -> 2.4558372 | ... AA8: =AA18*'הנחות ונתוני עזר'!$B$18/'הנחות ונתוני עזר'!$B$15 -> 3.1925883
A9: חופשה שנתית | B9: =(B6+B7)*'הנחות ונתוני עזר'!$B$16*B17/'הנחות ונתוני עזר'!$B$15 -> 2.3467742 | C9: =(C6+C7)*'הנחות ונתוני עזר'!$B$16*C17/'הנחות ונתוני עזר'!$B$15 -> 2.4435484 | D9: =(D6+D7)*'הנחות ונתוני עזר'!$B$16*D17/'הנחות ונתוני עזר'!$B$15 -> 2.4919355 | E9: =(E6+E7)*'הנחות ונתוני עזר'!$B$16*E17/'הנחות ונתוני עזר'!$B$15 -> 2.4919355 | F9: =(F6+F7)*'הנחות ונתוני עזר'!$B$16*F17/'הנחות ונתוני עזר'!$B$15 -> 2.6995968 | G9: =(G6+G7)*'הנחות ונתוני עזר'!$B$16*G17/'הנחות ונתוני עזר'!$B$15 -> 3.7379032 | H9: =(H6+H7)*'הנחות ונתוני עזר'!$B$16*H17/'הנחות ונתוני עזר'!$B$15 -> 3.9455645 | I9: =(I6+I7)*'הנחות ונתוני עזר'!$B$16*I17/'הנחות ונתוני עזר'!$B$15 -> 3.9455645 | ... AA9: =(AA6+AA7)*'הנחות ונתוני עזר'!$B$16*AA17/'הנחות ונתוני עזר'!$B$15 -> 4.7762097
A10: דמי ביטוח לאומי | B10: ='הנחות ונתוני עזר'!$B$21*MIN(B16,B19)+'הנחות ונתוני עזר'!$B$22*MAX(B16-B19,0) -> 2.6871883 | C10: ='הנחות ונתוני עזר'!$B$21*MIN(C16,C19)+'הנחות ונתוני עזר'!$B$22*MAX(C16-C19,0) -> 2.8465432 | D10: ='הנחות ונתוני עזר'!$B$21*MIN(D16,D19)+'הנחות ונתוני עזר'!$B$22*MAX(D16-D19,0) -> 2.9262206 | E10: ='הנחות ונתוני עזר'!$B$21*MIN(E16,E19)+'הנחות ונתוני עזר'!$B$22*MAX(E16-E19,0) -> 2.9635493 | F10: ='הנחות ונתוני עזר'!$B$21*MIN(F16,F19)+'הנחות ונתוני עזר'!$B$22*MAX(F16-F19,0) -> 2.9793316 | G10: ='הנחות ונתוני עזר'!$B$21*MIN(G16,G19)+'הנחות ונתוני עזר'!$B$22*MAX(G16-G19,0) -> 3.0769072 | H10: ='הנחות ונתוני עזר'!$B$21*MIN(H16,H19)+'הנחות ונתוני עזר'!$B$22*MAX(H16-H19,0) -> 3.0926895 | I10: ='הנחות ונתוני עזר'!$B$21*MIN(I16,I19)+'הנחות ונתוני עזר'!$B$22*MAX(I16-I19,0) -> 3.0926895 | ... AA10: ='הנחות ונתוני עזר'!$B$21*MIN(AA16,AA19)+'הנחות ונתוני עזר'!$B$22*MAX(AA16-AA19,0) -> 3.2118116
A11: פנסיה (תגמולים) | B11: ='הנחות ונתוני עזר'!$B$23*B16 -> 3.9424395 | C11: ='הנחות ונתוני עזר'!$B$23*C16 -> 4.0996976 | D11: ='הנחות ונתוני עזר'!$B$23*D16 -> 4.1783266 | E11: ='הנחות ונתוני עזר'!$B$23*E16 -> 4.2151642 | F11: ='הנחות ונתוני עזר'!$B$23*F16 -> 4.2307388 | G11: ='הנחות ונתוני עזר'!$B$23*G16 -> 4.3270305 | H11: ='הנחות ונתוני עזר'!$B$23*H16 -> 4.3426051 | I11: ='הנחות ונתוני עזר'!$B$23*I16 -> 4.3426051 | ... AA11: ='הנחות ונתוני עזר'!$B$23*AA16 -> 4.4601599
A12: פנסיה (פיצויים) | B12: ='הנחות ונתוני עזר'!$B$24*B16 -> 4.3787362 | C12: ='הנחות ונתוני עזר'!$B$24*C16 -> 4.5533974 | D12: ='הנחות ונתוני עזר'!$B$24*D16 -> 4.6407281 | E12: ='הנחות ונתוני עזר'!$B$24*E16 -> 4.6816423 | F12: ='הנחות ונתוני עזר'!$B$24*F16 -> 4.6989405 | G12: ='הנחות ונתוני עזר'!$B$24*G16 -> 4.8058886 | H12: ='הנחות ונתוני עזר'!$B$24*H16 -> 4.8231868 | I12: ='הנחות ונתוני עזר'!$B$24*I16 -> 4.8231868 | ... AA12: ='הנחות ונתוני עזר'!$B$24*AA16 -> 4.9537509
A13: קרן השתלמות | B13: ='הנחות ונתוני עזר'!$B$25*('הנחות ונתוני עזר'!$B$19+B8+'הנחות ונתוני עזר'!$B$26*B9) -> 3.18405 | C13: ='הנחות ונתוני עזר'!$B$25*('הנחות ונתוני עזר'!$B$19+C8+'הנחות ונתוני עזר'!$B$26*C9) -> 3.1890614 | D13: ='הנחות ונתוני עזר'!$B$25*('הנחות ונתוני עזר'!$B$19+D8+'הנחות ונתוני עזר'!$B$26*D9) -> 3.1915671 | E13: ='הנחות ונתוני עזר'!$B$25*('הנחות ונתוני עזר'!$B$19+E8+'הנחות ונתוני עזר'!$B$26*E9) -> 3.2284047 | F13: ='הנחות ונתוני עזר'!$B$25*('הנחות ונתוני עזר'!$B$19+F8+'הנחות ונתוני עזר'!$B$26*F9) -> 3.2391583 | G13: ='הנחות ונתוני עזר'!$B$25*('הנחות ונתוני עזר'!$B$19+G8+'הנחות ונתוני עזר'!$B$26*G9) -> 3.3113453 | H13: ='הנחות ונתוני עזר'!$B$25*('הנחות ונתוני עזר'!$B$19+H8+'הנחות ונתוני עזר'!$B$26*H9) -> 3.3220989 | I13: ='הנחות ונתוני עזר'!$B$25*('הנחות ונתוני עזר'!$B$19+I8+'הנחות ונתוני עזר'!$B$26*I9) -> 3.3220989 | ... AA13: ='הנחות ונתוני עזר'!$B$25*('הנחות ונתוני עזר'!$B$19+AA8+'הנחות ונתוני עזר'!$B$26*AA9) -> 3.4203698
A14: סה"כ עלות שעת עבודה למעסיק | B14: =SUM(B6:B13) -> 66.758274 | C14: =SUM(C6:C13) -> 69.351334 | D14: =SUM(D6:D13) -> 70.647864 | E14: =SUM(E6:E13) -> 71.290949 | F14: =SUM(F6:F13) -> 71.558019 | G14: =SUM(G6:G13) -> 73.214912 | H14: =SUM(H6:H13) -> 73.481982 | I14: =SUM(I6:I13) -> 73.481982 | ... AA14: =SUM(AA6:AA13) -> 75.51489
A16: בסיס פנימי | B16: =B6+B7+B8+B9 -> 52.56586 | C16: =C6+C7+C8+C9 -> 54.662634 | D16: =D6+D7+D8+D9 -> 55.711022 | E16: =E6+E7+E8+E9 -> 56.202189 | F16: =F6+F7+F8+F9 -> 56.40985 | G16: =G6+G7+G8+G9 -> 57.69374 | H16: =H6+H7+H8+H9 -> 57.901402 | I16: =I6+I7+I8+I9 -> 57.901402 | ... AA16: =AA6+AA7+AA8+AA9 -> 59.468798
A17: ימי חופשה | B17: 12 | C17: 12 | D17: 12 | E17: 12 | F17: 13 | G17: 18 | H17: 19 | I17: 19 | J17: 23 | K17: 23 | L17: 23 | M17: 23 | N17: 23 | O17: 23 | P17: 23 | Q17: 23 | R17: 23 | S17: 23 | T17: 23 | U17: 23 | V17: 23 | W17: 23 | X17: 23 | Y17: 23 | Z17: 23 | AA17: 23
A18: ימי הבראה | B18: 7 | C18: 7 | D18: 7 | E18: 9 | F18: 9 | G18: 10 | H18: 10 | I18: 10 | J18: 10 | K18: 10 | L18: 10 | M18: 10 | N18: 10 | O18: 10 | P18: 10 | Q18: 11 | R18: 11 | S18: 11 | T18: 11 | U18: 12 | V18: 12 | W18: 12 | X18: 12 | Y18: 12 | Z18: 13 | AA18: 13
A19: סף בטל"א שעתי | B19: 42.324176 | C19: 42.324176 | D19: 42.324176 | E19: 42.324176 | F19: 42.324176 | G19: 42.324176 | H19: 42.324176 | I19: 42.324176 | J19: 42.324176 | K19: 42.324176 | L19: 42.324176 | M19: 42.324176 | N19: 42.324176 | O19: 42.324176 | P19: 42.324176 | Q19: 42.324176 | R19: 42.324176 | S19: 42.324176 | T19: 42.324176 | U19: 42.324176 | V19: 42.324176 | W19: 42.324176 | X19: 42.324176 | Y19: 42.324176 | Z19: 42.324176 | AA19: 42.324176

Sheet 6. אחר (כגון- מוקדן)
A1: עלות שעת עבודה למעסיק - אחר (כגון: מוקדן)
A2: 5 ימי עבודה בשבוע | ללא אירועים מזכים | סכומים בש"ח לשעת עבודה
A4: רכיב עלות / שנות ותק | B4: 0 | C4: 1 | D4: 2 | E4: 3 | F4: 4 | G4: 5 | H4: 6 | I4: 7 | J4: 8 | K4: 9 | L4: 10 | M4: 11 | N4: 12 | O4: 13 | P4: 14 | Q4: 15 | R4: 16 | S4: 17 | T4: 18 | U4: 19 | V4: 20 | W4: 21 | X4: 22 | Y4: 23 | Z4: 24 | AA4: 25
A5: שנת העסקה | B5: 1 | C5: 2 | D5: 3 | E5: 4 | F5: 5 | G5: 6 | H5: 7 | I5: 8 | J5: 9 | K5: 10 | L5: 11 | M5: 12 | N5: 13 | O5: 14 | P5: 15 | Q5: 16 | R5: 17 | S5: 18 | T5: 19 | U5: 20 | V5: 21 | W5: 22 | X5: 23 | Y5: 24 | Z5: 25 | AA5: 26
A6: שכר יסוד שעתי | B6: 47.5 | C6: 49.5 | D6: 50.5 | E6: 50.5 | F6: 50.5 | G6: 50.5 | H6: 50.5 | I6: 50.5 | J6: 50.5 | K6: 50.5 | L6: 50.5 | M6: 50.5 | N6: 50.5 | O6: 50.5 | P6: 50.5 | Q6: 50.5 | R6: 50.5 | S6: 50.5 | T6: 50.5 | U6: 50.5 | V6: 50.5 | W6: 50.5 | X6: 50.5 | Y6: 50.5 | Z6: 50.5 | AA6: 50.5
A7: תוספת ותק | B7: 0 | C7: 0 | D7: 0 | E7: 0 | F7: 0 | G7: 0 | H7: 0 | I7: 0 | J7: 0 | K7: 0 | L7: 0 | M7: 0 | N7: 0 | O7: 0 | P7: 0 | Q7: 0 | R7: 0 | S7: 0 | T7: 0 | U7: 0 | V7: 0 | W7: 0 | X7: 0 | Y7: 0 | Z7: 0 | AA7: 0
A8: דמי הבראה | B8: =B18*'הנחות ונתוני עזר'!$B$18/'הנחות ונתוני עזר'!$B$15 -> 1.719086 | C8: =C18*'הנחות ונתוני עזר'!$B$18/'הנחות ונתוני עזר'!$B$15 -> 1.719086 | D8: =D18*'הנחות ונתוני עזר'!$B$18/'הנחות ונתוני עזר'!$B$15 -> 1.719086 | E8: =E18*'הנחות ונתוני עזר'!$B$18/'הנחות ונתוני עזר'!$B$15 -> 2.2102535 | F8: =F18*'הנחות ונתוני עזר'!$B$18/'הנחות ונתוני עזר'!$B$15 -> 2.2102535 | G8: =G18*'הנחות ונתוני עזר'!$B$18/'הנחות ונתוני עזר'!$B$15 -> 2.4558372 | H8: =H18*'הנחות ונתוני עזר'!$B$18/'הנחות ונתוני עזר'!$B$15 -> 2.4558372 | I8: =I18*'הנחות ונתוני עזר'!$B$18/'הנחות ונתוני עזר'!$B$15 -> 2.4558372 | ... AA8: =AA18*'הנחות ונתוני עזר'!$B$18/'הנחות ונתוני עזר'!$B$15 -> 3.1925883
A9: חופשה שנתית | B9: =(B6+B7)*'הנחות ונתוני עזר'!$B$16*B17/'הנחות ונתוני עזר'!$B$15 -> 2.2983871 | C9: =(C6+C7)*'הנחות ונתוני עזר'!$B$16*C17/'הנחות ונתוני עזר'!$B$15 -> 2.3951613 | D9: =(D6+D7)*'הנחות ונתוני עזר'!$B$16*D17/'הנחות ונתוני עזר'!$B$15 -> 2.4435484 | E9: =(E6+E7)*'הנחות ונתוני עזר'!$B$16*E17/'הנחות ונתוני עזר'!$B$15 -> 2.4435484 | F9: =(F6+F7)*'הנחות ונתוני עזר'!$B$16*F17/'הנחות ונתוני עזר'!$B$15 -> 2.6471774 | G9: =(G6+G7)*'הנחות ונתוני עזר'!$B$16*G17/'הנחות ונתוני עזר'!$B$15 -> 3.6653226 | H9: =(H6+H7)*'הנחות ונתוני עזר'!$B$16*H17/'הנחות ונתוני עזר'!$B$15 -> 3.8689516 | I9: =(I6+I7)*'הנחות ונתוני עזר'!$B$16*I17/'הנחות ונתוני עזר'!$B$15 -> 3.8689516 | ... AA9: =(AA6+AA7)*'הנחות ונתוני עזר'!$B$16*AA17/'הנחות ונתוני עזר'!$B$15 -> 4.6834677
A10: דמי ביטוח לאומי | B10: ='הנחות ונתוני עזר'!$B$21*MIN(B16,B19)+'הנחות ונתוני עזר'!$B$22*MAX(B16-B19,0) -> 2.6075109 | C10: ='הנחות ונתוני עזר'!$B$21*MIN(C16,C19)+'הנחות ונתוני עזר'!$B$22*MAX(C16-C19,0) -> 2.7668658 | D10: ='הנחות ונתוני עזר'!$B$21*MIN(D16,D19)+'הנחות ונתוני עזר'!$B$22*MAX(D16-D19,0) -> 2.8465432 | E10: ='הנחות ונתוני עזר'!$B$21*MIN(E16,E19)+'הנחות ונתוני עזר'!$B$22*MAX(E16-E19,0) -> 2.8838719 | F10: ='הנחות ונתוני עזר'!$B$21*MIN(F16,F19)+'הנחות ונתוני עזר'!$B$22*MAX(F16-F19,0) -> 2.8993477 | G10: ='הנחות ונתוני עזר'!$B$21*MIN(G16,G19)+'הנחות ונתוני עזר'!$B$22*MAX(G16-G19,0) -> 2.9953911 | H10: ='הנחות ונתוני עזר'!$B$21*MIN(H16,H19)+'הנחות ונתוני עזר'!$B$22*MAX(H16-H19,0) -> 3.0108669 | I10: ='הנחות ונתוני עזר'!$B$21*MIN(I16,I19)+'הנחות ונתוני עזר'!$B$22*MAX(I16-I19,0) -> 3.0108669 | ... AA10: ='הנחות ונתוני עזר'!$B$21*MIN(AA16,AA19)+'הנחות ונתוני עזר'!$B$22*MAX(AA16-AA19,0) -> 3.1287632
A11: פנסיה (תגמולים) | B11: ='הנחות ונתוני עזר'!$B$23*B16 -> 3.8638105 | C11: ='הנחות ונתוני עזר'!$B$23*C16 -> 4.0210685 | D11: ='הנחות ונתוני עזר'!$B$23*D16 -> 4.0996976 | E11: ='הנחות ונתוני עזר'!$B$23*E16 -> 4.1365351 | F11: ='הנחות ונתוני עזר'!$B$23*F16 -> 4.1518073 | G11: ='הנחות ונתוני עזר'!$B$23*G16 -> 4.246587 | H11: ='הנחות ונתוני עזר'!$B$23*H16 -> 4.2618592 | I11: ='הנחות ונתוני עזר'!$B$23*I16 -> 4.2618592 | ... AA11: ='הנחות ונתוני עזר'!$B$23*AA16 -> 4.3782042
A12: פנסיה (פיצויים) | B12: ='הנחות ונתוני עזר'!$B$24*B16 -> 4.2914055 | C12: ='הנחות ונתוני עזר'!$B$24*C16 -> 4.4660668 | D12: ='הנחות ונתוני עזר'!$B$24*D16 -> 4.5533974 | E12: ='הנחות ונתוני עזר'!$B$24*E16 -> 4.5943117 | F12: ='הנחות ונתוני עזר'!$B$24*F16 -> 4.611274 | G12: ='הנחות ונתוני עזר'!$B$24*G16 -> 4.7165426 | H12: ='הנחות ונתוני עזר'!$B$24*H16 -> 4.7335049 | I12: ='הנחות ונתוני עזר'!$B$24*I16 -> 4.7335049 | ... AA12: ='הנחות ונתוני עזר'!$B$24*AA16 -> 4.8627255
A13: קרן השתלמות | B13: ='הנחות ונתוני עזר'!$B$25*('הנחות ונתוני עזר'!$B$19+B8+'הנחות ונתוני עזר'!$B$26*B9) -> 3.1815443 | C13: ='הנחות ונתוני עזר'!$B$25*('הנחות ונתוני עזר'!$B$19+C8+'הנחות ונתוני עזר'!$B$26*C9) -> 3.1865557 | D13: ='הנחות ונתוני עזר'!$B$25*('הנחות ונתוני עזר'!$B$19+D8+'הנחות ונתוני עזר'!$B$26*D9) -> 3.1890614 | E13: ='הנחות ונתוני עזר'!$B$25*('הנחות ונתוני עזר'!$B$19+E8+'הנחות ונתוני עזר'!$B$26*E9) -> 3.225899 | F13: ='הנחות ונתוני עזר'!$B$25*('הנחות ונתוני עזר'!$B$19+F8+'הנחות ונתוני עזר'!$B$26*F9) -> 3.2364438 | G13: ='הנחות ונתוני עזר'!$B$25*('הנחות ונתוני עזר'!$B$19+G8+'הנחות ונתוני עזר'!$B$26*G9) -> 3.3075867 | H13: ='הנחות ונתוני עזר'!$B$25*('הנחות ונתוני עזר'!$B$19+H8+'הנחות ונתוני עזר'!$B$26*H9) -> 3.3181316 | I13: ='הנחות ונתוני עזר'!$B$25*('הנחות ונתוני עזר'!$B$19+I8+'הנחות ונתוני עזר'!$B$26*I9) -> 3.3181316 | ... AA13: ='הנחות ונתוני עזר'!$B$25*('הנחות ונתוני עזר'!$B$19+AA8+'הנחות ונתוני עזר'!$B$26*AA9) -> 3.4155672
A14: סה"כ עלות שעת עבודה למעסיק | B14: =SUM(B6:B13) -> 65.461744 | C14: =SUM(C6:C13) -> 68.054804 | D14: =SUM(D6:D13) -> 69.351334 | E14: =SUM(E6:E13) -> 69.99442 | F14: =SUM(F6:F13) -> 70.256304 | G14: =SUM(G6:G13) -> 71.887267 | H14: =SUM(H6:H13) -> 72.149151 | I14: =SUM(I6:I13) -> 72.149151 | ... AA14: =SUM(AA6:AA13) -> 74.161316
A16: בסיס פנימי | B16: =B6+B7+B8+B9 -> 51.517473 | C16: =C6+C7+C8+C9 -> 53.614247 | D16: =D6+D7+D8+D9 -> 54.662634 | E16: =E6+E7+E8+E9 -> 55.153802 | F16: =F6+F7+F8+F9 -> 55.357431 | G16: =G6+G7+G8+G9 -> 56.62116 | H16: =H6+H7+H8+H9 -> 56.824789 | I16: =I6+I7+I8+I9 -> 56.824789 | ... AA16: =AA6+AA7+AA8+AA9 -> 58.376056
A17: ימי חופשה | B17: 12 | C17: 12 | D17: 12 | E17: 12 | F17: 13 | G17: 18 | H17: 19 | I17: 19 | J17: 23 | K17: 23 | L17: 23 | M17: 23 | N17: 23 | O17: 23 | P17: 23 | Q17: 23 | R17: 23 | S17: 23 | T17: 23 | U17: 23 | V17: 23 | W17: 23 | X17: 23 | Y17: 23 | Z17: 23 | AA17: 23
A18: ימי הבראה | B18: 7 | C18: 7 | D18: 7 | E18: 9 | F18: 9 | G18: 10 | H18: 10 | I18: 10 | J18: 10 | K18: 10 | L18: 10 | M18: 10 | N18: 10 | O18: 10 | P18: 10 | Q18: 11 | R18: 11 | S18: 11 | T18: 11 | U18: 12 | V18: 12 | W18: 12 | X18: 12 | Y18: 12 | Z18: 13 | AA18: 13
A19: סף בטל"א שעתי | B19: 42.324176 | C19: 42.324176 | D19: 42.324176 | E19: 42.324176 | F19: 42.324176 | G19: 42.324176 | H19: 42.324176 | I19: 42.324176 | J19: 42.324176 | K19: 42.324176 | L19: 42.324176 | M19: 42.324176 | N19: 42.324176 | O19: 42.324176 | P19: 42.324176 | Q19: 42.324176 | R19: 42.324176 | S19: 42.324176 | T19: 42.324176 | U19: 42.324176 | V19: 42.324176 | W19: 42.324176 | X19: 42.324176 | Y19: 42.324176 | Z19: 42.324176 | AA19: 42.324176
